BEGIN:VCALENDAR
VERSION:2.0
PRODID:-//Mt. Anthony - ECPv6.15.20//NONSGML v1.0//EN
CALSCALE:GREGORIAN
METHOD:PUBLISH
X-WR-CALNAME:Mt. Anthony
X-ORIGINAL-URL:https://mtanthonycc.com
X-WR-CALDESC:Events for Mt. Anthony
REFRESH-INTERVAL;VALUE=DURATION:PT1H
X-Robots-Tag:noindex
X-PUBLISHED-TTL:PT1H
BEGIN:VTIMEZONE
TZID:America/Toronto
BEGIN:DAYLIGHT
TZOFFSETFROM:-0500
TZOFFSETTO:-0400
TZNAME:EDT
DTSTART:20200308T070000
END:DAYLIGHT
BEGIN:STANDARD
TZOFFSETFROM:-0400
TZOFFSETTO:-0500
TZNAME:EST
DTSTART:20201101T060000
END:STANDARD
BEGIN:DAYLIGHT
TZOFFSETFROM:-0500
TZOFFSETTO:-0400
TZNAME:EDT
DTSTART:20210314T070000
END:DAYLIGHT
BEGIN:STANDARD
TZOFFSETFROM:-0400
TZOFFSETTO:-0500
TZNAME:EST
DTSTART:20211107T060000
END:STANDARD
BEGIN:DAYLIGHT
TZOFFSETFROM:-0500
TZOFFSETTO:-0400
TZNAME:EDT
DTSTART:20220313T070000
END:DAYLIGHT
BEGIN:STANDARD
TZOFFSETFROM:-0400
TZOFFSETTO:-0500
TZNAME:EST
DTSTART:20221106T060000
END:STANDARD
END:VTIMEZONE
BEGIN:VEVENT
DTSTART;TZID=America/Toronto:20210825T173000
DTEND;TZID=America/Toronto:20210825T203000
DTSTAMP:20260420T093532
CREATED:20210514T154002Z
LAST-MODIFIED:20210629T203353Z
UID:10000558-1629912600-1629923400@mtanthonycc.com
SUMMARY:Wednesday Social League
DESCRIPTION:Are you ready for a fun Golf Night?!\nWednesday Night Social-9-Hole League every Wednesday at 5:30 pm\nMembers pay for the Cart Fee $10 and $5 for prizes \nGuests $35 including Cart and $5 for prizes \nScramble Format \nPlease call the Pro-Shop and register\nby 4 pm every Wednesday 802-442-2617\nor sign up online:
URL:https://mtanthonycc.com/event/wednesday-social-league/2021-08-25/
LOCATION:Mount Anthony Country Club\, 180 Country Club Road\, Bennington\, Vermont\, 05201
CATEGORIES:Repeating Event
ATTACH;FMTTYPE=image/jpeg:https://mtanthonycc.com/wp-content/uploads/2021/05/mt-anthony-country-clubshot-of-friends-enjoying-time-on-a-golf-course.jpeg
END:VEVENT
BEGIN:VEVENT
DTSTART;TZID=America/Toronto:20210822T143000
DTEND;TZID=America/Toronto:20210822T183000
DTSTAMP:20260420T093532
CREATED:20210308T200755Z
LAST-MODIFIED:20210629T203300Z
UID:10000492-1629642600-1629657000@mtanthonycc.com
SUMMARY:Sunday Open Scramble
DESCRIPTION:Sunday FunDAY 9 Hole Scramble\nStarting May 16th & Every Sunday after | Shotgun: 2:30 pm \nMACC Members: Cart Fee + $5 for prizes \nGuests: $35 +  $5 for prizes \nPlease call the Proshop to register your team 802-447-7079\nor submit the form below!
URL:https://mtanthonycc.com/event/open-scramble-2/2021-08-22/
LOCATION:Mount Anthony Country Club\, 180 Country Club Road\, Bennington\, Vermont\, 05201
CATEGORIES:Repeating Event
ATTACH;FMTTYPE=image/png:https://mtanthonycc.com/wp-content/uploads/2021/03/mt-anthony-country-clubmt-anthony-sunday-funday-scramble-1.png
END:VEVENT
BEGIN:VEVENT
DTSTART;VALUE=DATE:20210821
DTEND;VALUE=DATE:20210823
DTSTAMP:20260420T093532
CREATED:20210308T205718Z
LAST-MODIFIED:20210629T205220Z
UID:10000514-1629504000-1629676799@mtanthonycc.com
SUMMARY:Men’s Club Championship
DESCRIPTION:(Qualify a week prior) Match Play
URL:https://mtanthonycc.com/event/mens-club-championship/
LOCATION:Mount Anthony Country Club\, 180 Country Club Road\, Bennington\, Vermont\, 05201
CATEGORIES:Event
END:VEVENT
BEGIN:VEVENT
DTSTART;TZID=America/Toronto:20210820T160000
DTEND;TZID=America/Toronto:20210820T210000
DTSTAMP:20260420T093532
CREATED:20210308T204055Z
LAST-MODIFIED:20210810T174733Z
UID:10000512-1629475200-1629493200@mtanthonycc.com
SUMMARY:NINE AND WINE
DESCRIPTION:WINE & NINE\n4:00 pm Registration\, Wine Tasting + Appetizers \n5:30 pm Shotgun Start 9 Hole Scramble \nMembers $25+ Tax | Guests $45 + tax \nTo register please call the Pro Shop 802-447-7079
URL:https://mtanthonycc.com/event/nine-and-wine-4/
LOCATION:Mount Anthony Country Club\, 180 Country Club Road\, Bennington\, Vermont\, 05201
CATEGORIES:Event
END:VEVENT
BEGIN:VEVENT
DTSTART;TZID=America/Toronto:20210818T173000
DTEND;TZID=America/Toronto:20210818T203000
DTSTAMP:20260420T093532
CREATED:20210514T154002Z
LAST-MODIFIED:20210629T203353Z
UID:10000557-1629307800-1629318600@mtanthonycc.com
SUMMARY:Wednesday Social League
DESCRIPTION:Are you ready for a fun Golf Night?!\nWednesday Night Social-9-Hole League every Wednesday at 5:30 pm\nMembers pay for the Cart Fee $10 and $5 for prizes \nGuests $35 including Cart and $5 for prizes \nScramble Format \nPlease call the Pro-Shop and register\nby 4 pm every Wednesday 802-442-2617\nor sign up online:
URL:https://mtanthonycc.com/event/wednesday-social-league/2021-08-18/
LOCATION:Mount Anthony Country Club\, 180 Country Club Road\, Bennington\, Vermont\, 05201
CATEGORIES:Repeating Event
ATTACH;FMTTYPE=image/jpeg:https://mtanthonycc.com/wp-content/uploads/2021/05/mt-anthony-country-clubshot-of-friends-enjoying-time-on-a-golf-course.jpeg
END:VEVENT
BEGIN:VEVENT
DTSTART;TZID=America/Toronto:20210815T143000
DTEND;TZID=America/Toronto:20210815T183000
DTSTAMP:20260420T093532
CREATED:20210308T200755Z
LAST-MODIFIED:20210629T203300Z
UID:10000491-1629037800-1629052200@mtanthonycc.com
SUMMARY:Sunday Open Scramble
DESCRIPTION:Sunday FunDAY 9 Hole Scramble\nStarting May 16th & Every Sunday after | Shotgun: 2:30 pm \nMACC Members: Cart Fee + $5 for prizes \nGuests: $35 +  $5 for prizes \nPlease call the Proshop to register your team 802-447-7079\nor submit the form below!
URL:https://mtanthonycc.com/event/open-scramble-2/2021-08-15/
LOCATION:Mount Anthony Country Club\, 180 Country Club Road\, Bennington\, Vermont\, 05201
CATEGORIES:Repeating Event
ATTACH;FMTTYPE=image/png:https://mtanthonycc.com/wp-content/uploads/2021/03/mt-anthony-country-clubmt-anthony-sunday-funday-scramble-1.png
END:VEVENT
BEGIN:VEVENT
DTSTART;VALUE=DATE:20210814
DTEND;VALUE=DATE:20210816
DTSTAMP:20260420T093532
CREATED:20210308T204118Z
LAST-MODIFIED:20210629T205220Z
UID:10000513-1628899200-1629071999@mtanthonycc.com
SUMMARY:Morse Cup
DESCRIPTION:
URL:https://mtanthonycc.com/event/morse-cup/
LOCATION:Mount Anthony Country Club\, 180 Country Club Road\, Bennington\, Vermont\, 05201
CATEGORIES:Event
END:VEVENT
BEGIN:VEVENT
DTSTART;TZID=America/Toronto:20210811T173000
DTEND;TZID=America/Toronto:20210811T203000
DTSTAMP:20260420T093532
CREATED:20210514T154002Z
LAST-MODIFIED:20210629T203353Z
UID:10000556-1628703000-1628713800@mtanthonycc.com
SUMMARY:Wednesday Social League
DESCRIPTION:Are you ready for a fun Golf Night?!\nWednesday Night Social-9-Hole League every Wednesday at 5:30 pm\nMembers pay for the Cart Fee $10 and $5 for prizes \nGuests $35 including Cart and $5 for prizes \nScramble Format \nPlease call the Pro-Shop and register\nby 4 pm every Wednesday 802-442-2617\nor sign up online:
URL:https://mtanthonycc.com/event/wednesday-social-league/2021-08-11/
LOCATION:Mount Anthony Country Club\, 180 Country Club Road\, Bennington\, Vermont\, 05201
CATEGORIES:Repeating Event
ATTACH;FMTTYPE=image/jpeg:https://mtanthonycc.com/wp-content/uploads/2021/05/mt-anthony-country-clubshot-of-friends-enjoying-time-on-a-golf-course.jpeg
END:VEVENT
BEGIN:VEVENT
DTSTART;TZID=America/Toronto:20210808T143000
DTEND;TZID=America/Toronto:20210808T183000
DTSTAMP:20260420T093532
CREATED:20210308T200755Z
LAST-MODIFIED:20210629T203300Z
UID:10000490-1628433000-1628447400@mtanthonycc.com
SUMMARY:Sunday Open Scramble
DESCRIPTION:Sunday FunDAY 9 Hole Scramble\nStarting May 16th & Every Sunday after | Shotgun: 2:30 pm \nMACC Members: Cart Fee + $5 for prizes \nGuests: $35 +  $5 for prizes \nPlease call the Proshop to register your team 802-447-7079\nor submit the form below!
URL:https://mtanthonycc.com/event/open-scramble-2/2021-08-08/
LOCATION:Mount Anthony Country Club\, 180 Country Club Road\, Bennington\, Vermont\, 05201
CATEGORIES:Repeating Event
ATTACH;FMTTYPE=image/png:https://mtanthonycc.com/wp-content/uploads/2021/03/mt-anthony-country-clubmt-anthony-sunday-funday-scramble-1.png
END:VEVENT
BEGIN:VEVENT
DTSTART;TZID=America/Toronto:20210807T083000
DTEND;TZID=America/Toronto:20210807T123000
DTSTAMP:20260420T093532
CREATED:20210308T203928Z
LAST-MODIFIED:20210629T205220Z
UID:10000511-1628325000-1628339400@mtanthonycc.com
SUMMARY:Ladies Invitational Tournament
DESCRIPTION:(8:30 shotgun)
URL:https://mtanthonycc.com/event/ladies-invitational-tournament/
LOCATION:Mount Anthony Country Club\, 180 Country Club Road\, Bennington\, Vermont\, 05201
CATEGORIES:Event
END:VEVENT
BEGIN:VEVENT
DTSTART;TZID=America/Toronto:20210805T090000
DTEND;TZID=America/Toronto:20210805T120000
DTSTAMP:20260420T093532
CREATED:20210416T151620Z
LAST-MODIFIED:20210629T203406Z
UID:10000533-1628154000-1628164800@mtanthonycc.com
SUMMARY:Women’s 18-Hole League
DESCRIPTION:2021 Women’s Golf League\n18 Hole League. 10 Thursdays from June 3 – August 5\, 2021  \nJoin this members group of avid golfers who play competitively 18 holes every Thursday morning. Play a different foursome and challenge every week. Handicaps are needed. $35 for the end of season Awards Dinner. Not-yet-members cost is $477 as a pre-paid commitment of 10 weeks green fees + Tax\,+ $35 Awards Dinner at time of registration. Please register by May 17\, 2021. \n 
URL:https://mtanthonycc.com/event/womens-18-hole-league/2021-08-05/
LOCATION:Mount Anthony Country Club\, 180 Country Club Road\, Bennington\, Vermont\, 05201
CATEGORIES:Repeating Event
ATTACH;FMTTYPE=image/jpeg:https://mtanthonycc.com/wp-content/uploads/2021/04/mt-anthony-country-clubwomens-golf-league-icon-1.jpg
END:VEVENT
BEGIN:VEVENT
DTSTART;TZID=America/Toronto:20210804T173000
DTEND;TZID=America/Toronto:20210804T203000
DTSTAMP:20260420T093532
CREATED:20210514T154002Z
LAST-MODIFIED:20210629T203353Z
UID:10000555-1628098200-1628109000@mtanthonycc.com
SUMMARY:Wednesday Social League
DESCRIPTION:Are you ready for a fun Golf Night?!\nWednesday Night Social-9-Hole League every Wednesday at 5:30 pm\nMembers pay for the Cart Fee $10 and $5 for prizes \nGuests $35 including Cart and $5 for prizes \nScramble Format \nPlease call the Pro-Shop and register\nby 4 pm every Wednesday 802-442-2617\nor sign up online:
URL:https://mtanthonycc.com/event/wednesday-social-league/2021-08-04/
LOCATION:Mount Anthony Country Club\, 180 Country Club Road\, Bennington\, Vermont\, 05201
CATEGORIES:Repeating Event
ATTACH;FMTTYPE=image/jpeg:https://mtanthonycc.com/wp-content/uploads/2021/05/mt-anthony-country-clubshot-of-friends-enjoying-time-on-a-golf-course.jpeg
END:VEVENT
BEGIN:VEVENT
DTSTART;TZID=America/Toronto:20210804T090000
DTEND;TZID=America/Toronto:20210804T120000
DTSTAMP:20260420T093532
CREATED:20210416T151357Z
LAST-MODIFIED:20210629T203406Z
UID:10000401-1628067600-1628078400@mtanthonycc.com
SUMMARY:Women’s 9-Hole League
DESCRIPTION:2021 Women’s Golf League\n9-Hole League. Created for golfers who are beginners to intermediate level or would like to get back into the game. This league provides a great opportunity for women to improve their game\, knowledge of rules\, etiquette\, and make new friends. \n10 Wednesdays starting June 2 through August 4\, 2021  \nStarting with a 30 Minute Clinic at 9:00 am every Wednesday led by our new PGA Golf Professional\, Drew Keaffaber\, PGA in training Josh Crawford\, and MAUHS Golf Varsity Coach\, Stephen Carknard. \nMembers pay $60 for the Clinics and Awards Dinner in August. \n 
URL:https://mtanthonycc.com/event/womens-9-hole-league/2021-08-04/
LOCATION:Mount Anthony Country Club\, 180 Country Club Road\, Bennington\, Vermont\, 05201
CATEGORIES:Repeating Event
ATTACH;FMTTYPE=image/jpeg:https://mtanthonycc.com/wp-content/uploads/2021/04/mt-anthony-country-clubwomens-golf-league-icon-1.jpg
END:VEVENT
BEGIN:VEVENT
DTSTART;VALUE=DATE:20210802
DTEND;VALUE=DATE:20210807
DTSTAMP:20260420T093532
CREATED:20210419T175801Z
LAST-MODIFIED:20210629T203414Z
UID:10000535-1627862400-1628294399@mtanthonycc.com
SUMMARY:Golf & Swim Summer Camp
DESCRIPTION:Golf & Swim Summer Camp Sessions\nFor kids ages 7 to 14. Taught by PGA Golf Professional Drew Keaffaber\, \nPGA in Training Josh Crawford and MAUHS Varsity Golf Coach Stephen Carknard \nSESSION I July 19 – July 23\, 2021\nSESSION II August 2 – August 6\, 2021\n9am – 12pm: Golf Instruction & Play\n12pm – 3pm: Lunch\, Swim\, Games & Nature\nCOST $200 per session Golf Member’s Price*  \n$250 per session Not-yet members  \n*Camper must be an active 2020 Golf Member \nRegister early! Limited spots available  mtanthonycc.com 802.442.2617 \n 
URL:https://mtanthonycc.com/event/golf-swim-summer-camp/2021-08-02/
LOCATION:Mount Anthony Country Club\, 180 Country Club Road\, Bennington\, Vermont\, 05201
CATEGORIES:Repeating Event
ATTACH;FMTTYPE=image/jpeg:https://mtanthonycc.com/wp-content/uploads/2021/04/mt-anthony-country-clubgolf_summer_camp_2021_icon-1.jpg
END:VEVENT
BEGIN:VEVENT
DTSTART;VALUE=DATE:20210802
DTEND;VALUE=DATE:20210807
DTSTAMP:20260420T093532
CREATED:20210308T203803Z
LAST-MODIFIED:20210629T205220Z
UID:10000510-1627862400-1628294399@mtanthonycc.com
SUMMARY:Jr. Golf Camp
DESCRIPTION:9-3pm
URL:https://mtanthonycc.com/event/jr-golf-camp/
LOCATION:Mount Anthony Country Club\, 180 Country Club Road\, Bennington\, Vermont\, 05201
CATEGORIES:Event
END:VEVENT
BEGIN:VEVENT
DTSTART;TZID=America/Toronto:20210801T143000
DTEND;TZID=America/Toronto:20210801T183000
DTSTAMP:20260420T093532
CREATED:20210308T200755Z
LAST-MODIFIED:20210629T203300Z
UID:10000489-1627828200-1627842600@mtanthonycc.com
SUMMARY:Sunday Open Scramble
DESCRIPTION:Sunday FunDAY 9 Hole Scramble\nStarting May 16th & Every Sunday after | Shotgun: 2:30 pm \nMACC Members: Cart Fee + $5 for prizes \nGuests: $35 +  $5 for prizes \nPlease call the Proshop to register your team 802-447-7079\nor submit the form below!
URL:https://mtanthonycc.com/event/open-scramble-2/2021-08-01/
LOCATION:Mount Anthony Country Club\, 180 Country Club Road\, Bennington\, Vermont\, 05201
CATEGORIES:Repeating Event
ATTACH;FMTTYPE=image/png:https://mtanthonycc.com/wp-content/uploads/2021/03/mt-anthony-country-clubmt-anthony-sunday-funday-scramble-1.png
END:VEVENT
BEGIN:VEVENT
DTSTART;TZID=America/Toronto:20210730T130000
DTEND;TZID=America/Toronto:20210730T190000
DTSTAMP:20260420T093532
CREATED:20210609T124101Z
LAST-MODIFIED:20210629T205220Z
UID:10000403-1627650000-1627671600@mtanthonycc.com
SUMMARY:VNA & HOSPICE Benefit Golf Tournament
DESCRIPTION:1:00 pm Shotgun
URL:https://mtanthonycc.com/event/vna-hospice-benefit-golf-tournament/
LOCATION:Mount Anthony Country Club\, 180 Country Club Road\, Bennington\, Vermont\, 05201
CATEGORIES:Event
END:VEVENT
BEGIN:VEVENT
DTSTART;VALUE=DATE:20210730
DTEND;VALUE=DATE:20210731
DTSTAMP:20260420T093532
CREATED:20210308T203646Z
LAST-MODIFIED:20210629T205220Z
UID:10000509-1627603200-1627689599@mtanthonycc.com
SUMMARY:One Day Member Guest
DESCRIPTION:
URL:https://mtanthonycc.com/event/one-day-member-guest/
LOCATION:Mount Anthony Country Club\, 180 Country Club Road\, Bennington\, Vermont\, 05201
CATEGORIES:Event
END:VEVENT
BEGIN:VEVENT
DTSTART;TZID=America/Toronto:20210729T090000
DTEND;TZID=America/Toronto:20210729T120000
DTSTAMP:20260420T093532
CREATED:20210416T151620Z
LAST-MODIFIED:20210629T203406Z
UID:10000532-1627549200-1627560000@mtanthonycc.com
SUMMARY:Women’s 18-Hole League
DESCRIPTION:2021 Women’s Golf League\n18 Hole League. 10 Thursdays from June 3 – August 5\, 2021  \nJoin this members group of avid golfers who play competitively 18 holes every Thursday morning. Play a different foursome and challenge every week. Handicaps are needed. $35 for the end of season Awards Dinner. Not-yet-members cost is $477 as a pre-paid commitment of 10 weeks green fees + Tax\,+ $35 Awards Dinner at time of registration. Please register by May 17\, 2021. \n 
URL:https://mtanthonycc.com/event/womens-18-hole-league/2021-07-29/
LOCATION:Mount Anthony Country Club\, 180 Country Club Road\, Bennington\, Vermont\, 05201
CATEGORIES:Repeating Event
ATTACH;FMTTYPE=image/jpeg:https://mtanthonycc.com/wp-content/uploads/2021/04/mt-anthony-country-clubwomens-golf-league-icon-1.jpg
END:VEVENT
BEGIN:VEVENT
DTSTART;TZID=America/Toronto:20210728T173000
DTEND;TZID=America/Toronto:20210728T203000
DTSTAMP:20260420T093533
CREATED:20210514T154002Z
LAST-MODIFIED:20210629T203353Z
UID:10000554-1627493400-1627504200@mtanthonycc.com
SUMMARY:Wednesday Social League
DESCRIPTION:Are you ready for a fun Golf Night?!\nWednesday Night Social-9-Hole League every Wednesday at 5:30 pm\nMembers pay for the Cart Fee $10 and $5 for prizes \nGuests $35 including Cart and $5 for prizes \nScramble Format \nPlease call the Pro-Shop and register\nby 4 pm every Wednesday 802-442-2617\nor sign up online:
URL:https://mtanthonycc.com/event/wednesday-social-league/2021-07-28/
LOCATION:Mount Anthony Country Club\, 180 Country Club Road\, Bennington\, Vermont\, 05201
CATEGORIES:Repeating Event
ATTACH;FMTTYPE=image/jpeg:https://mtanthonycc.com/wp-content/uploads/2021/05/mt-anthony-country-clubshot-of-friends-enjoying-time-on-a-golf-course.jpeg
END:VEVENT
BEGIN:VEVENT
DTSTART;TZID=America/Toronto:20210728T090000
DTEND;TZID=America/Toronto:20210728T120000
DTSTAMP:20260420T093533
CREATED:20210416T151357Z
LAST-MODIFIED:20210629T203406Z
UID:10000400-1627462800-1627473600@mtanthonycc.com
SUMMARY:Women’s 9-Hole League
DESCRIPTION:2021 Women’s Golf League\n9-Hole League. Created for golfers who are beginners to intermediate level or would like to get back into the game. This league provides a great opportunity for women to improve their game\, knowledge of rules\, etiquette\, and make new friends. \n10 Wednesdays starting June 2 through August 4\, 2021  \nStarting with a 30 Minute Clinic at 9:00 am every Wednesday led by our new PGA Golf Professional\, Drew Keaffaber\, PGA in training Josh Crawford\, and MAUHS Golf Varsity Coach\, Stephen Carknard. \nMembers pay $60 for the Clinics and Awards Dinner in August. \n 
URL:https://mtanthonycc.com/event/womens-9-hole-league/2021-07-28/
LOCATION:Mount Anthony Country Club\, 180 Country Club Road\, Bennington\, Vermont\, 05201
CATEGORIES:Repeating Event
ATTACH;FMTTYPE=image/jpeg:https://mtanthonycc.com/wp-content/uploads/2021/04/mt-anthony-country-clubwomens-golf-league-icon-1.jpg
END:VEVENT
BEGIN:VEVENT
DTSTART;TZID=America/Toronto:20210725T143000
DTEND;TZID=America/Toronto:20210725T183000
DTSTAMP:20260420T093533
CREATED:20210308T200755Z
LAST-MODIFIED:20210629T203300Z
UID:10000488-1627223400-1627237800@mtanthonycc.com
SUMMARY:Sunday Open Scramble
DESCRIPTION:Sunday FunDAY 9 Hole Scramble\nStarting May 16th & Every Sunday after | Shotgun: 2:30 pm \nMACC Members: Cart Fee + $5 for prizes \nGuests: $35 +  $5 for prizes \nPlease call the Proshop to register your team 802-447-7079\nor submit the form below!
URL:https://mtanthonycc.com/event/open-scramble-2/2021-07-25/
LOCATION:Mount Anthony Country Club\, 180 Country Club Road\, Bennington\, Vermont\, 05201
CATEGORIES:Repeating Event
ATTACH;FMTTYPE=image/png:https://mtanthonycc.com/wp-content/uploads/2021/03/mt-anthony-country-clubmt-anthony-sunday-funday-scramble-1.png
END:VEVENT
BEGIN:VEVENT
DTSTART;TZID=America/Toronto:20210723T160000
DTEND;TZID=America/Toronto:20210723T210000
DTSTAMP:20260420T093533
CREATED:20210308T203433Z
LAST-MODIFIED:20210629T205311Z
UID:10000508-1627056000-1627074000@mtanthonycc.com
SUMMARY:NINE AND WINE
DESCRIPTION:WINE & NINE\n4:00 pm Registration\, Wine Tasting + Appetizers \n5:30 pm Shotgun Start 9 Hole Scramble \nMembers $25+ Tax | Guests $45 + tax \nTo register please call the Pro Shop 802-447-7079
URL:https://mtanthonycc.com/event/nine-and-wine-3/
LOCATION:Mount Anthony Country Club\, 180 Country Club Road\, Bennington\, Vermont\, 05201
CATEGORIES:Event
END:VEVENT
BEGIN:VEVENT
DTSTART;TZID=America/Toronto:20210722T090000
DTEND;TZID=America/Toronto:20210722T120000
DTSTAMP:20260420T093533
CREATED:20210416T151620Z
LAST-MODIFIED:20210629T203406Z
UID:10000531-1626944400-1626955200@mtanthonycc.com
SUMMARY:Women’s 18-Hole League
DESCRIPTION:2021 Women’s Golf League\n18 Hole League. 10 Thursdays from June 3 – August 5\, 2021  \nJoin this members group of avid golfers who play competitively 18 holes every Thursday morning. Play a different foursome and challenge every week. Handicaps are needed. $35 for the end of season Awards Dinner. Not-yet-members cost is $477 as a pre-paid commitment of 10 weeks green fees + Tax\,+ $35 Awards Dinner at time of registration. Please register by May 17\, 2021. \n 
URL:https://mtanthonycc.com/event/womens-18-hole-league/2021-07-22/
LOCATION:Mount Anthony Country Club\, 180 Country Club Road\, Bennington\, Vermont\, 05201
CATEGORIES:Repeating Event
ATTACH;FMTTYPE=image/jpeg:https://mtanthonycc.com/wp-content/uploads/2021/04/mt-anthony-country-clubwomens-golf-league-icon-1.jpg
END:VEVENT
BEGIN:VEVENT
DTSTART;TZID=America/Toronto:20210721T173000
DTEND;TZID=America/Toronto:20210721T203000
DTSTAMP:20260420T093533
CREATED:20210514T154002Z
LAST-MODIFIED:20210629T203353Z
UID:10000553-1626888600-1626899400@mtanthonycc.com
SUMMARY:Wednesday Social League
DESCRIPTION:Are you ready for a fun Golf Night?!\nWednesday Night Social-9-Hole League every Wednesday at 5:30 pm\nMembers pay for the Cart Fee $10 and $5 for prizes \nGuests $35 including Cart and $5 for prizes \nScramble Format \nPlease call the Pro-Shop and register\nby 4 pm every Wednesday 802-442-2617\nor sign up online:
URL:https://mtanthonycc.com/event/wednesday-social-league/2021-07-21/
LOCATION:Mount Anthony Country Club\, 180 Country Club Road\, Bennington\, Vermont\, 05201
CATEGORIES:Repeating Event
ATTACH;FMTTYPE=image/jpeg:https://mtanthonycc.com/wp-content/uploads/2021/05/mt-anthony-country-clubshot-of-friends-enjoying-time-on-a-golf-course.jpeg
END:VEVENT
BEGIN:VEVENT
DTSTART;TZID=America/Toronto:20210721T090000
DTEND;TZID=America/Toronto:20210721T120000
DTSTAMP:20260420T093533
CREATED:20210416T151357Z
LAST-MODIFIED:20210629T203406Z
UID:10000399-1626858000-1626868800@mtanthonycc.com
SUMMARY:Women’s 9-Hole League
DESCRIPTION:2021 Women’s Golf League\n9-Hole League. Created for golfers who are beginners to intermediate level or would like to get back into the game. This league provides a great opportunity for women to improve their game\, knowledge of rules\, etiquette\, and make new friends. \n10 Wednesdays starting June 2 through August 4\, 2021  \nStarting with a 30 Minute Clinic at 9:00 am every Wednesday led by our new PGA Golf Professional\, Drew Keaffaber\, PGA in training Josh Crawford\, and MAUHS Golf Varsity Coach\, Stephen Carknard. \nMembers pay $60 for the Clinics and Awards Dinner in August. \n 
URL:https://mtanthonycc.com/event/womens-9-hole-league/2021-07-21/
LOCATION:Mount Anthony Country Club\, 180 Country Club Road\, Bennington\, Vermont\, 05201
CATEGORIES:Repeating Event
ATTACH;FMTTYPE=image/jpeg:https://mtanthonycc.com/wp-content/uploads/2021/04/mt-anthony-country-clubwomens-golf-league-icon-1.jpg
END:VEVENT
BEGIN:VEVENT
DTSTART;VALUE=DATE:20210719
DTEND;VALUE=DATE:20210724
DTSTAMP:20260420T093533
CREATED:20210419T175801Z
LAST-MODIFIED:20210629T203414Z
UID:10000534-1626652800-1627084799@mtanthonycc.com
SUMMARY:Golf & Swim Summer Camp
DESCRIPTION:Golf & Swim Summer Camp Sessions\nFor kids ages 7 to 14. Taught by PGA Golf Professional Drew Keaffaber\, \nPGA in Training Josh Crawford and MAUHS Varsity Golf Coach Stephen Carknard \nSESSION I July 19 – July 23\, 2021\nSESSION II August 2 – August 6\, 2021\n9am – 12pm: Golf Instruction & Play\n12pm – 3pm: Lunch\, Swim\, Games & Nature\nCOST $200 per session Golf Member’s Price*  \n$250 per session Not-yet members  \n*Camper must be an active 2020 Golf Member \nRegister early! Limited spots available  mtanthonycc.com 802.442.2617 \n 
URL:https://mtanthonycc.com/event/golf-swim-summer-camp/2021-07-19/
LOCATION:Mount Anthony Country Club\, 180 Country Club Road\, Bennington\, Vermont\, 05201
CATEGORIES:Repeating Event
ATTACH;FMTTYPE=image/jpeg:https://mtanthonycc.com/wp-content/uploads/2021/04/mt-anthony-country-clubgolf_summer_camp_2021_icon-1.jpg
END:VEVENT
BEGIN:VEVENT
DTSTART;VALUE=DATE:20210719
DTEND;VALUE=DATE:20210724
DTSTAMP:20260420T093533
CREATED:20210308T203346Z
LAST-MODIFIED:20210629T205311Z
UID:10000507-1626652800-1627084799@mtanthonycc.com
SUMMARY:Jr. Golf and Swim Camp
DESCRIPTION:9am-3pm
URL:https://mtanthonycc.com/event/jr-golf-and-swim-camp/
LOCATION:Mount Anthony Country Club\, 180 Country Club Road\, Bennington\, Vermont\, 05201
CATEGORIES:Event
END:VEVENT
BEGIN:VEVENT
DTSTART;VALUE=DATE:20210719
DTEND;VALUE=DATE:20210720
DTSTAMP:20260420T093533
CREATED:20210308T203204Z
LAST-MODIFIED:20210629T205311Z
UID:10000506-1626652800-1626739199@mtanthonycc.com
SUMMARY:Bartender’s Open
DESCRIPTION:
URL:https://mtanthonycc.com/event/bartenders-open/
LOCATION:Mount Anthony Country Club\, 180 Country Club Road\, Bennington\, Vermont\, 05201
CATEGORIES:Event
END:VEVENT
BEGIN:VEVENT
DTSTART;TZID=America/Toronto:20210718T143000
DTEND;TZID=America/Toronto:20210718T183000
DTSTAMP:20260420T093533
CREATED:20210308T200755Z
LAST-MODIFIED:20210629T203300Z
UID:10000487-1626618600-1626633000@mtanthonycc.com
SUMMARY:Sunday Open Scramble
DESCRIPTION:Sunday FunDAY 9 Hole Scramble\nStarting May 16th & Every Sunday after | Shotgun: 2:30 pm \nMACC Members: Cart Fee + $5 for prizes \nGuests: $35 +  $5 for prizes \nPlease call the Proshop to register your team 802-447-7079\nor submit the form below!
URL:https://mtanthonycc.com/event/open-scramble-2/2021-07-18/
LOCATION:Mount Anthony Country Club\, 180 Country Club Road\, Bennington\, Vermont\, 05201
CATEGORIES:Repeating Event
ATTACH;FMTTYPE=image/png:https://mtanthonycc.com/wp-content/uploads/2021/03/mt-anthony-country-clubmt-anthony-sunday-funday-scramble-1.png
END:VEVENT
END:VCALENDAR