BEGIN:VCALENDAR
VERSION:2.0
PRODID:-//Mt. Anthony - ECPv6.15.20//NONSGML v1.0//EN
CALSCALE:GREGORIAN
METHOD:PUBLISH
X-WR-CALNAME:Mt. Anthony
X-ORIGINAL-URL:https://mtanthonycc.com
X-WR-CALDESC:Events for Mt. Anthony
REFRESH-INTERVAL;VALUE=DURATION:PT1H
X-Robots-Tag:noindex
X-PUBLISHED-TTL:PT1H
BEGIN:VTIMEZONE
TZID:America/Toronto
BEGIN:DAYLIGHT
TZOFFSETFROM:-0500
TZOFFSETTO:-0400
TZNAME:EDT
DTSTART:20240310T070000
END:DAYLIGHT
BEGIN:STANDARD
TZOFFSETFROM:-0400
TZOFFSETTO:-0500
TZNAME:EST
DTSTART:20241103T060000
END:STANDARD
BEGIN:DAYLIGHT
TZOFFSETFROM:-0500
TZOFFSETTO:-0400
TZNAME:EDT
DTSTART:20250309T070000
END:DAYLIGHT
BEGIN:STANDARD
TZOFFSETFROM:-0400
TZOFFSETTO:-0500
TZNAME:EST
DTSTART:20251102T060000
END:STANDARD
BEGIN:DAYLIGHT
TZOFFSETFROM:-0500
TZOFFSETTO:-0400
TZNAME:EDT
DTSTART:20260308T070000
END:DAYLIGHT
BEGIN:STANDARD
TZOFFSETFROM:-0400
TZOFFSETTO:-0500
TZNAME:EST
DTSTART:20261101T060000
END:STANDARD
END:VTIMEZONE
BEGIN:VEVENT
DTSTART;VALUE=DATE:20250903
DTEND;VALUE=DATE:20250904
DTSTAMP:20260423T061639
CREATED:20250218T214945Z
LAST-MODIFIED:20250429T163409Z
UID:10002314-1756857600-1756943999@mtanthonycc.com
SUMMARY:Social League
DESCRIPTION:
URL:https://mtanthonycc.com/event/social-league-3/2025-09-03/
END:VEVENT
BEGIN:VEVENT
DTSTART;VALUE=DATE:20250910
DTEND;VALUE=DATE:20250911
DTSTAMP:20260423T061639
CREATED:20250218T214945Z
LAST-MODIFIED:20250429T163409Z
UID:10002315-1757462400-1757548799@mtanthonycc.com
SUMMARY:Social League
DESCRIPTION:
URL:https://mtanthonycc.com/event/social-league-3/2025-09-10/
END:VEVENT
BEGIN:VEVENT
DTSTART;TZID=America/Toronto:20250913T110000
DTEND;TZID=America/Toronto:20250913T110000
DTSTAMP:20260423T061639
CREATED:20250218T220905Z
LAST-MODIFIED:20250731T174834Z
UID:10002383-1757761200-1757761200@mtanthonycc.com
SUMMARY:ServPro Benefit Golf Tournament
DESCRIPTION:  \n\n\n\n\n\nWe are thrilled to invite you to the SERVPRO SVMC Golf Event at the beautiful Mt. Anthony Country Club on Saturday\, September 13th\, 2025\, starting at 12:00 PM. This exciting tournament supports community initiatives while offering a day of friendly competition\, great food\, and lasting memories. \n\n\n\n\n\n\n\n\n\n\n\n\n\nWhether you’re a seasoned golfer or just looking for a fun afternoon on the greens\, this is your chance to enjoy: \n\n\n18 holes on our championship course \n\n\nWelcome bags & lunch for all participants \n\n\nAwards ceremony & buffet dinner \n\n\nChances to win exciting contests like Longest Drive\, Closest to the Pin\, Putting\, and Chipping Challenges \n\n\n\n\n\n\n\n\n\n\n\n\n\n\n\nSponsorship Opportunities\nWe offer a variety of sponsorship packages—from Event Sponsor to Tee Hole Sponsor—that include marketing visibility\, media mentions\, and opportunities to showcase your business to our community. \nDate & Time: Saturday\, September 13th\, 2025 – 12:00 PM\nLocation: Mt. Anthony Country Club\nTeam Registration: $540 per foursome (includes cart\, lunch\, awards buffet)\nIndividual Registration: $135 per player \nJoin us for an unforgettable day of golf\, camaraderie\, and community spirit. We look forward to seeing you on the course! \nDOWNLOAD REGISTRATION  \nREGISTER ONLINE
URL:https://mtanthonycc.com/event/servpro-benefit-golf-tournament-2/
END:VEVENT
BEGIN:VEVENT
DTSTART;VALUE=DATE:20250917
DTEND;VALUE=DATE:20250918
DTSTAMP:20260423T061639
CREATED:20250218T214945Z
LAST-MODIFIED:20250429T163409Z
UID:10002316-1758067200-1758153599@mtanthonycc.com
SUMMARY:Social League
DESCRIPTION:
URL:https://mtanthonycc.com/event/social-league-3/2025-09-17/
END:VEVENT
BEGIN:VEVENT
DTSTART;VALUE=DATE:20250919
DTEND;VALUE=DATE:20250922
DTSTAMP:20260423T061639
CREATED:20250218T220920Z
LAST-MODIFIED:20250218T220920Z
UID:10002384-1758240000-1758499199@mtanthonycc.com
SUMMARY:Fall Foliage Invitational Tournament
DESCRIPTION:
URL:https://mtanthonycc.com/event/fall-foliage-invitational-tournament-4/
END:VEVENT
BEGIN:VEVENT
DTSTART;VALUE=DATE:20250924
DTEND;VALUE=DATE:20250925
DTSTAMP:20260423T061639
CREATED:20250218T214945Z
LAST-MODIFIED:20250429T163409Z
UID:10002317-1758672000-1758758399@mtanthonycc.com
SUMMARY:Social League
DESCRIPTION:
URL:https://mtanthonycc.com/event/social-league-3/2025-09-24/
END:VEVENT
BEGIN:VEVENT
DTSTART;TZID=America/Toronto:20250928T090000
DTEND;TZID=America/Toronto:20250928T090000
DTSTAMP:20260423T061639
CREATED:20250218T220955Z
LAST-MODIFIED:20250828T173908Z
UID:10002386-1759050000-1759050000@mtanthonycc.com
SUMMARY:Elks Charlie Poole Tournament
DESCRIPTION:Sign up at the Elks Club.
URL:https://mtanthonycc.com/event/elks-charlie-poole-tournament-4/
END:VEVENT
BEGIN:VEVENT
DTSTART;VALUE=DATE:20250929
DTEND;VALUE=DATE:20250930
DTSTAMP:20260423T061639
CREATED:20250218T220935Z
LAST-MODIFIED:20250218T220935Z
UID:10002385-1759104000-1759190399@mtanthonycc.com
SUMMARY:Tri-State Women's Golf Tournament
DESCRIPTION:
URL:https://mtanthonycc.com/event/tri-state-womens-golf-tournament/
END:VEVENT
END:VCALENDAR