BEGIN:VCALENDAR
VERSION:2.0
PRODID:-//Mt. Anthony - ECPv6.15.20//NONSGML v1.0//EN
CALSCALE:GREGORIAN
METHOD:PUBLISH
X-WR-CALNAME:Mt. Anthony
X-ORIGINAL-URL:https://mtanthonycc.com
X-WR-CALDESC:Events for Mt. Anthony
REFRESH-INTERVAL;VALUE=DURATION:PT1H
X-Robots-Tag:noindex
X-PUBLISHED-TTL:PT1H
BEGIN:VTIMEZONE
TZID:America/Toronto
BEGIN:DAYLIGHT
TZOFFSETFROM:-0500
TZOFFSETTO:-0400
TZNAME:EDT
DTSTART:20240310T070000
END:DAYLIGHT
BEGIN:STANDARD
TZOFFSETFROM:-0400
TZOFFSETTO:-0500
TZNAME:EST
DTSTART:20241103T060000
END:STANDARD
BEGIN:DAYLIGHT
TZOFFSETFROM:-0500
TZOFFSETTO:-0400
TZNAME:EDT
DTSTART:20250309T070000
END:DAYLIGHT
BEGIN:STANDARD
TZOFFSETFROM:-0400
TZOFFSETTO:-0500
TZNAME:EST
DTSTART:20251102T060000
END:STANDARD
BEGIN:DAYLIGHT
TZOFFSETFROM:-0500
TZOFFSETTO:-0400
TZNAME:EDT
DTSTART:20260308T070000
END:DAYLIGHT
BEGIN:STANDARD
TZOFFSETFROM:-0400
TZOFFSETTO:-0500
TZNAME:EST
DTSTART:20261101T060000
END:STANDARD
END:VTIMEZONE
BEGIN:VEVENT
DTSTART;TZID=America/Toronto:20250802T083000
DTEND;TZID=America/Toronto:20250802T083000
DTSTAMP:20260423T075538
CREATED:20250218T220426Z
LAST-MODIFIED:20250218T220426Z
UID:10002372-1754123400-1754123400@mtanthonycc.com
SUMMARY:MACC Ladies Invitational Tournament
DESCRIPTION:
URL:https://mtanthonycc.com/event/macc-ladies-invitational-tournament/
END:VEVENT
BEGIN:VEVENT
DTSTART;VALUE=DATE:20250804
DTEND;VALUE=DATE:20250809
DTSTAMP:20260423T075538
CREATED:20250218T220450Z
LAST-MODIFIED:20250218T220450Z
UID:10002373-1754265600-1754697599@mtanthonycc.com
SUMMARY:Golf Camp
DESCRIPTION:
URL:https://mtanthonycc.com/event/golf-camp-2/
END:VEVENT
BEGIN:VEVENT
DTSTART;VALUE=DATE:20250805
DTEND;VALUE=DATE:20250806
DTSTAMP:20260423T075538
CREATED:20250218T215506Z
LAST-MODIFIED:20250218T215506Z
UID:10002340-1754352000-1754438399@mtanthonycc.com
SUMMARY:Croquet League
DESCRIPTION:
URL:https://mtanthonycc.com/event/croquet-league-4/2025-08-05/
END:VEVENT
BEGIN:VEVENT
DTSTART;VALUE=DATE:20250806
DTEND;VALUE=DATE:20250807
DTSTAMP:20260423T075538
CREATED:20250218T214945Z
LAST-MODIFIED:20250429T163409Z
UID:10002310-1754438400-1754524799@mtanthonycc.com
SUMMARY:Social League
DESCRIPTION:
URL:https://mtanthonycc.com/event/social-league-3/2025-08-06/
END:VEVENT
BEGIN:VEVENT
DTSTART;VALUE=DATE:20250806
DTEND;VALUE=DATE:20250807
DTSTAMP:20260423T075538
CREATED:20250218T220237Z
LAST-MODIFIED:20250321T125027Z
UID:10002366-1754438400-1754524799@mtanthonycc.com
SUMMARY:Ladies 9 Hole League
DESCRIPTION:Created for golfers who are beginners to intermediate level or would like to get back into the game. This league provides a great opportunity for women to improve their game\, knowledge of rules\, golf etiquette\, and make new friends.\n\n10 Wednesdays starting June 4th through August 13th\, 2025\n\nPlan on arriving at 8:30 AM to check in and warm up prior to the 30-Minute Clinic given by PGA Pro Drew Keaffaber and MACC Golf Pro starting at 9:00 AM.\n\nMembers pay $65 including Clinics and Awards Dinner on August 20th\, 2025\n\nNot Yet-Members cost for the league is $330 for 10 weeks\n\nIncludes 10 weeks of reduced green fees $25(+tax)\, the weekly 30-Minute Clinic\, and Awards Dinner on August 20th\, 2025. It does not include the use of golf carts or weekly fee for prizes.
URL:https://mtanthonycc.com/event/ladies-9-hole-league-4/2025-08-06/
END:VEVENT
BEGIN:VEVENT
DTSTART;TZID=America/Toronto:20250806T120000
DTEND;TZID=America/Toronto:20250806T120000
DTSTAMP:20260423T075538
CREATED:20250218T220513Z
LAST-MODIFIED:20250218T220513Z
UID:10002374-1754481600-1754481600@mtanthonycc.com
SUMMARY:Second Chance Animal Center Benefit Golf Tournament
DESCRIPTION:
URL:https://mtanthonycc.com/event/second-chance-animal-center-benefit-golf-tournament/
END:VEVENT
BEGIN:VEVENT
DTSTART;VALUE=DATE:20250807
DTEND;VALUE=DATE:20250808
DTSTAMP:20260423T075538
CREATED:20250218T215702Z
LAST-MODIFIED:20250321T125401Z
UID:10002349-1754524800-1754611199@mtanthonycc.com
SUMMARY:Ladies 18 Hole League
DESCRIPTION:For Members only\, this group of avid golfers play more competitively yet a fun round of 18 holes every Thursday starting at 8:30 AM.\n\nPlay with a different foursome and challenge every week. A GHIN # and current handicap is needed for this league.\n\n10 Thursdays starting June 5th through August 7th\, 2025\n\nPlan on arriving at 8:00 AM to check in and warm up prior to 8:30 AM shotgun start.\nMembers only pay $40 for the end-of-season Awards Dinner on August 21st. Please register by May 2nd.
URL:https://mtanthonycc.com/event/ladies-18-hole-league-5/2025-08-07/
END:VEVENT
BEGIN:VEVENT
DTSTART;VALUE=DATE:20250809
DTEND;VALUE=DATE:20250811
DTSTAMP:20260423T075538
CREATED:20250218T220532Z
LAST-MODIFIED:20250218T220532Z
UID:10002375-1754697600-1754870399@mtanthonycc.com
SUMMARY:Morse Cup
DESCRIPTION:
URL:https://mtanthonycc.com/event/morse-cup-5/
END:VEVENT
BEGIN:VEVENT
DTSTART;VALUE=DATE:20250813
DTEND;VALUE=DATE:20250814
DTSTAMP:20260423T075538
CREATED:20250218T214945Z
LAST-MODIFIED:20250429T163409Z
UID:10002311-1755043200-1755129599@mtanthonycc.com
SUMMARY:Social League
DESCRIPTION:
URL:https://mtanthonycc.com/event/social-league-3/2025-08-13/
END:VEVENT
BEGIN:VEVENT
DTSTART;VALUE=DATE:20250813
DTEND;VALUE=DATE:20250814
DTSTAMP:20260423T075538
CREATED:20250218T220237Z
LAST-MODIFIED:20250321T125027Z
UID:10002367-1755043200-1755129599@mtanthonycc.com
SUMMARY:Ladies 9 Hole League
DESCRIPTION:Created for golfers who are beginners to intermediate level or would like to get back into the game. This league provides a great opportunity for women to improve their game\, knowledge of rules\, golf etiquette\, and make new friends.\n\n10 Wednesdays starting June 4th through August 13th\, 2025\n\nPlan on arriving at 8:30 AM to check in and warm up prior to the 30-Minute Clinic given by PGA Pro Drew Keaffaber and MACC Golf Pro starting at 9:00 AM.\n\nMembers pay $65 including Clinics and Awards Dinner on August 20th\, 2025\n\nNot Yet-Members cost for the league is $330 for 10 weeks\n\nIncludes 10 weeks of reduced green fees $25(+tax)\, the weekly 30-Minute Clinic\, and Awards Dinner on August 20th\, 2025. It does not include the use of golf carts or weekly fee for prizes.
URL:https://mtanthonycc.com/event/ladies-9-hole-league-4/2025-08-13/
END:VEVENT
BEGIN:VEVENT
DTSTART;TZID=America/Toronto:20250814T100000
DTEND;TZID=America/Toronto:20250814T100000
DTSTAMP:20260423T075538
CREATED:20250218T220646Z
LAST-MODIFIED:20250218T220646Z
UID:10002377-1755165600-1755165600@mtanthonycc.com
SUMMARY:VNA & Hospice Benefit Tournament
DESCRIPTION:
URL:https://mtanthonycc.com/event/vna-hospice-benefit-tournament/
END:VEVENT
BEGIN:VEVENT
DTSTART;VALUE=DATE:20250820
DTEND;VALUE=DATE:20250821
DTSTAMP:20260423T075538
CREATED:20250218T214945Z
LAST-MODIFIED:20250429T163409Z
UID:10002312-1755648000-1755734399@mtanthonycc.com
SUMMARY:Social League
DESCRIPTION:
URL:https://mtanthonycc.com/event/social-league-3/2025-08-20/
END:VEVENT
BEGIN:VEVENT
DTSTART;VALUE=DATE:20250820
DTEND;VALUE=DATE:20250822
DTSTAMP:20260423T075538
CREATED:20250218T220706Z
LAST-MODIFIED:20250218T220706Z
UID:10002378-1755648000-1755820799@mtanthonycc.com
SUMMARY:Ladies Club Championship
DESCRIPTION:
URL:https://mtanthonycc.com/event/ladies-club-championship-2/
END:VEVENT
BEGIN:VEVENT
DTSTART;TZID=America/Toronto:20250822T130000
DTEND;TZID=America/Toronto:20250822T130000
DTSTAMP:20260423T075538
CREATED:20250218T220729Z
LAST-MODIFIED:20250421T201407Z
UID:10002379-1755867600-1755867600@mtanthonycc.com
SUMMARY:Jamie Hill Memorial Tournament
DESCRIPTION:EVENT DETAILS:\n\nREGISTRATION: 11:30 AM\nSHOTGUN START: 12:30 PM\nCOST: $125 per player / $500 per team\nFORMAT: 18-Hole Scramble\nTEE SPONSORSHIP: $200\n$40 Awards Reception Only at 5:30 pm\n\n  \nQuestions? Call Mike Greene 802-375-4273 or Teddy Hill 802-733-8603.\n  \nTee Sponsorships: Please send Logo as a high res JPG or PDF file to Teddy Hill at tmhcricket@yahoo.com\n  \nPlease TEAM payments by check to: Mount Anthony Country Club\, 180 Country Club Drive\, Bennington VT 05201
URL:https://mtanthonycc.com/event/jamie-hill-memorial-tournament-2/
END:VEVENT
BEGIN:VEVENT
DTSTART;VALUE=DATE:20250823
DTEND;VALUE=DATE:20250825
DTSTAMP:20260423T075538
CREATED:20250218T220755Z
LAST-MODIFIED:20250218T220755Z
UID:10002380-1755907200-1756079999@mtanthonycc.com
SUMMARY:Men's Club Championship
DESCRIPTION:
URL:https://mtanthonycc.com/event/mens-club-championship-5/
END:VEVENT
BEGIN:VEVENT
DTSTART;VALUE=DATE:20250827
DTEND;VALUE=DATE:20250828
DTSTAMP:20260423T075538
CREATED:20250218T214945Z
LAST-MODIFIED:20250429T163409Z
UID:10002313-1756252800-1756339199@mtanthonycc.com
SUMMARY:Social League
DESCRIPTION:
URL:https://mtanthonycc.com/event/social-league-3/2025-08-27/
END:VEVENT
BEGIN:VEVENT
DTSTART;TZID=America/Toronto:20250829T110000
DTEND;TZID=America/Toronto:20250829T110000
DTSTAMP:20260423T075538
CREATED:20250218T220821Z
LAST-MODIFIED:20250421T201726Z
UID:10002381-1756465200-1756465200@mtanthonycc.com
SUMMARY:Coggins Tournament Benefit
DESCRIPTION:About the Tournament\nAt the Coggins Auto Group of Bennington\, we make deals\, make friends\, and have fun! Helping make our communities a better place to live holds close second to day-to-day business.\n  \nThe Annual Coggins Classic Charity Golf Tournament hopes to raise thousands of dollars each year to help fund local organizations that serve the local families and children in need.\n  \nThe 2025 recipient is Community Cancer Center Crusaders! The mission of the Cancer Center Community Crusaders is to provide financial and emotional support to members of the communities served by Southwestern Vermont Regional Cancer Center and their families as they strive to obtain the best cancer care and treatment possible. Through our grassroots efforts\, the organization raises funds which are distributed to our local families as needed for their care. Our group also allocates a portion of the funds it raises to support local and regional research efforts to end cancer. All funds raised stay right here in the community. Toyota will match up to $10\,000 of the funds raised by this tournament!\n  \nThanks to the support of our generous business partners\, Coggins team members\, and vehicle manufacturers\, we’re able to make a positive difference in the communities we serve.\n  \nEVENT DETAILS:\n\nREGISTRATION: 10:00 AM\nTEE TIME: 11:00 AM\nFORMAT: 4-Person Scramble
URL:https://mtanthonycc.com/event/coggins-tournament-benefit/
END:VEVENT
BEGIN:VEVENT
DTSTART;VALUE=DATE:20250831
DTEND;VALUE=DATE:20250901
DTSTAMP:20260423T075538
CREATED:20250218T220837Z
LAST-MODIFIED:20250218T220837Z
UID:10002382-1756598400-1756684799@mtanthonycc.com
SUMMARY:Match Play Finals
DESCRIPTION:
URL:https://mtanthonycc.com/event/match-play-finals-3/
END:VEVENT
END:VCALENDAR