BEGIN:VCALENDAR
VERSION:2.0
PRODID:-//Mt. Anthony - ECPv6.15.20//NONSGML v1.0//EN
CALSCALE:GREGORIAN
METHOD:PUBLISH
X-ORIGINAL-URL:https://mtanthonycc.com
X-WR-CALDESC:Events for Mt. Anthony
REFRESH-INTERVAL;VALUE=DURATION:PT1H
X-Robots-Tag:noindex
X-PUBLISHED-TTL:PT1H
BEGIN:VTIMEZONE
TZID:America/Toronto
BEGIN:DAYLIGHT
TZOFFSETFROM:-0500
TZOFFSETTO:-0400
TZNAME:EDT
DTSTART:20240310T070000
END:DAYLIGHT
BEGIN:STANDARD
TZOFFSETFROM:-0400
TZOFFSETTO:-0500
TZNAME:EST
DTSTART:20241103T060000
END:STANDARD
BEGIN:DAYLIGHT
TZOFFSETFROM:-0500
TZOFFSETTO:-0400
TZNAME:EDT
DTSTART:20250309T070000
END:DAYLIGHT
BEGIN:STANDARD
TZOFFSETFROM:-0400
TZOFFSETTO:-0500
TZNAME:EST
DTSTART:20251102T060000
END:STANDARD
BEGIN:DAYLIGHT
TZOFFSETFROM:-0500
TZOFFSETTO:-0400
TZNAME:EDT
DTSTART:20260308T070000
END:DAYLIGHT
BEGIN:STANDARD
TZOFFSETFROM:-0400
TZOFFSETTO:-0500
TZNAME:EST
DTSTART:20261101T060000
END:STANDARD
END:VTIMEZONE
BEGIN:VEVENT
DTSTART;VALUE=DATE:20250503
DTEND;VALUE=DATE:20250504
DTSTAMP:20260423T060910
CREATED:20250218T214709Z
LAST-MODIFIED:20250218T214709Z
UID:10002293-1746230400-1746316799@mtanthonycc.com
SUMMARY:MACC Spring Members Open House
DESCRIPTION:
URL:https://mtanthonycc.com/event/macc-spring-members-open-house/
END:VEVENT
BEGIN:VEVENT
DTSTART;VALUE=DATE:20250505
DTEND;VALUE=DATE:20250506
DTSTAMP:20260423T060910
CREATED:20250218T214729Z
LAST-MODIFIED:20250218T214729Z
UID:10002294-1746403200-1746489599@mtanthonycc.com
SUMMARY:Industrial League Starts
DESCRIPTION:
URL:https://mtanthonycc.com/event/industrial-league-starts/
END:VEVENT
BEGIN:VEVENT
DTSTART;VALUE=DATE:20250507
DTEND;VALUE=DATE:20250508
DTSTAMP:20260423T060910
CREATED:20250218T214745Z
LAST-MODIFIED:20250218T214745Z
UID:10002295-1746576000-1746662399@mtanthonycc.com
SUMMARY:Social League Starts
DESCRIPTION:
URL:https://mtanthonycc.com/event/social-league-starts/
END:VEVENT
BEGIN:VEVENT
DTSTART;VALUE=DATE:20250507
DTEND;VALUE=DATE:20250508
DTSTAMP:20260423T060910
CREATED:20250218T214945Z
LAST-MODIFIED:20250429T163409Z
UID:10002391-1746576000-1746662399@mtanthonycc.com
SUMMARY:Social League
DESCRIPTION:
URL:https://mtanthonycc.com/event/social-league-3/2025-05-07/
END:VEVENT
BEGIN:VEVENT
DTSTART;VALUE=DATE:20250511
DTEND;VALUE=DATE:20250512
DTSTAMP:20260423T060910
CREATED:20250218T214803Z
LAST-MODIFIED:20250218T214803Z
UID:10002296-1746921600-1747007999@mtanthonycc.com
SUMMARY:Mother's Day Brunch
DESCRIPTION:
URL:https://mtanthonycc.com/event/mothers-day-brunch-2/
END:VEVENT
BEGIN:VEVENT
DTSTART;VALUE=DATE:20250512
DTEND;VALUE=DATE:20250513
DTSTAMP:20260423T060910
CREATED:20250218T214818Z
LAST-MODIFIED:20250218T215114Z
UID:10002297-1747008000-1747094399@mtanthonycc.com
SUMMARY:Industrial League PM
DESCRIPTION:
URL:https://mtanthonycc.com/event/industrial-league-pm/2025-05-12/
END:VEVENT
BEGIN:VEVENT
DTSTART;VALUE=DATE:20250514
DTEND;VALUE=DATE:20250515
DTSTAMP:20260423T060910
CREATED:20250218T214945Z
LAST-MODIFIED:20250429T163409Z
UID:10002298-1747180800-1747267199@mtanthonycc.com
SUMMARY:Social League
DESCRIPTION:
URL:https://mtanthonycc.com/event/social-league-3/2025-05-14/
END:VEVENT
BEGIN:VEVENT
DTSTART;VALUE=DATE:20250515
DTEND;VALUE=DATE:20250519
DTSTAMP:20260423T060910
CREATED:20250211T140924Z
LAST-MODIFIED:20250211T140924Z
UID:10002292-1747267200-1747612799@mtanthonycc.com
SUMMARY:William Travers Jerome\, Jr. 2025 Memorial Invitational Tournament
DESCRIPTION:Thursday\, May 15th\nPractice Round – carts not included\n\nFriday\, May 16th\nQualifying Round: 7:00 AM – 12:00 PM Tee Times\nNote: All qualifying must be done on Friday\nMust be paid in full to set up tee times\n\nStag Night Dinner – 7:30 PM\n\nSaturday\, May 17th\n7:30 AM & 1:30 PM Shotgun Start\n\n7:00 AM Continental Breakfast – 12:00 PM Buffet Lunch\n\nMemorial Invitational Buffet Dinner & Live Music\n(Spouses & Guests are welcome! $35++ / per person)\n\nSunday\, May 18th\n7:30 AM & 1:30 PM Shotgun Start\n7:00 AM Continental Breakfast – 12:00 PM Buffet Lunch\n\nAwards Ceremony at conclusion
URL:https://mtanthonycc.com/event/william-travers-jerome-jr-2025-memorial-invitational-tournament/
END:VEVENT
BEGIN:VEVENT
DTSTART;VALUE=DATE:20250519
DTEND;VALUE=DATE:20250520
DTSTAMP:20260423T060910
CREATED:20250218T214818Z
LAST-MODIFIED:20250218T215114Z
UID:10002318-1747612800-1747699199@mtanthonycc.com
SUMMARY:Industrial League PM
DESCRIPTION:
URL:https://mtanthonycc.com/event/industrial-league-pm/2025-05-19/
END:VEVENT
BEGIN:VEVENT
DTSTART;VALUE=DATE:20250521
DTEND;VALUE=DATE:20250522
DTSTAMP:20260423T060910
CREATED:20250218T214945Z
LAST-MODIFIED:20250429T163409Z
UID:10002299-1747785600-1747871999@mtanthonycc.com
SUMMARY:Social League
DESCRIPTION:
URL:https://mtanthonycc.com/event/social-league-3/2025-05-21/
END:VEVENT
BEGIN:VEVENT
DTSTART;VALUE=DATE:20250526
DTEND;VALUE=DATE:20250527
DTSTAMP:20260423T060910
CREATED:20250218T214818Z
LAST-MODIFIED:20250218T215114Z
UID:10002319-1748217600-1748303999@mtanthonycc.com
SUMMARY:Industrial League PM
DESCRIPTION:
URL:https://mtanthonycc.com/event/industrial-league-pm/2025-05-26/
END:VEVENT
BEGIN:VEVENT
DTSTART;VALUE=DATE:20250528
DTEND;VALUE=DATE:20250529
DTSTAMP:20260423T060910
CREATED:20250218T214945Z
LAST-MODIFIED:20250429T163409Z
UID:10002300-1748390400-1748476799@mtanthonycc.com
SUMMARY:Social League
DESCRIPTION:
URL:https://mtanthonycc.com/event/social-league-3/2025-05-28/
END:VEVENT
END:VCALENDAR