BEGIN:VCALENDAR
VERSION:2.0
PRODID:-//Mt. Anthony - ECPv6.15.20//NONSGML v1.0//EN
CALSCALE:GREGORIAN
METHOD:PUBLISH
X-ORIGINAL-URL:https://mtanthonycc.com
X-WR-CALDESC:Events for Mt. Anthony
REFRESH-INTERVAL;VALUE=DURATION:PT1H
X-Robots-Tag:noindex
X-PUBLISHED-TTL:PT1H
BEGIN:VTIMEZONE
TZID:America/Toronto
BEGIN:DAYLIGHT
TZOFFSETFROM:-0500
TZOFFSETTO:-0400
TZNAME:EDT
DTSTART:20230312T070000
END:DAYLIGHT
BEGIN:STANDARD
TZOFFSETFROM:-0400
TZOFFSETTO:-0500
TZNAME:EST
DTSTART:20231105T060000
END:STANDARD
BEGIN:DAYLIGHT
TZOFFSETFROM:-0500
TZOFFSETTO:-0400
TZNAME:EDT
DTSTART:20240310T070000
END:DAYLIGHT
BEGIN:STANDARD
TZOFFSETFROM:-0400
TZOFFSETTO:-0500
TZNAME:EST
DTSTART:20241103T060000
END:STANDARD
BEGIN:DAYLIGHT
TZOFFSETFROM:-0500
TZOFFSETTO:-0400
TZNAME:EDT
DTSTART:20250309T070000
END:DAYLIGHT
BEGIN:STANDARD
TZOFFSETFROM:-0400
TZOFFSETTO:-0500
TZNAME:EST
DTSTART:20251102T060000
END:STANDARD
END:VTIMEZONE
BEGIN:VEVENT
DTSTART;VALUE=DATE:20241002
DTEND;VALUE=DATE:20241003
DTSTAMP:20260423T062503
CREATED:20240507T125931Z
LAST-MODIFIED:20240613T144337Z
UID:10002250-1727827200-1727913599@mtanthonycc.com
SUMMARY:Social League
DESCRIPTION:Please call the Pro shop (802) 447-7079 to sign up \n 
URL:https://mtanthonycc.com/event/social-league-2/2024-10-02/
LOCATION:MOUNT ANTHONY COUNTRY CLUB\, 180 Country Club Road\, Bennington\, Vemont\, 05201
CATEGORIES:Event,Repeating Event
ATTACH;FMTTYPE=image/png:https://mtanthonycc.com/wp-content/uploads/2023/02/mt-anthony-country-clubmt-anthony-2022-macc-wednesday-social-league-facebook-event-cover.png
END:VEVENT
BEGIN:VEVENT
DTSTART;VALUE=DATE:20241009
DTEND;VALUE=DATE:20241010
DTSTAMP:20260423T062503
CREATED:20240507T125931Z
LAST-MODIFIED:20240613T144337Z
UID:10002251-1728432000-1728518399@mtanthonycc.com
SUMMARY:Social League
DESCRIPTION:Please call the Pro shop (802) 447-7079 to sign up \n 
URL:https://mtanthonycc.com/event/social-league-2/2024-10-09/
LOCATION:MOUNT ANTHONY COUNTRY CLUB\, 180 Country Club Road\, Bennington\, Vemont\, 05201
CATEGORIES:Event,Repeating Event
ATTACH;FMTTYPE=image/png:https://mtanthonycc.com/wp-content/uploads/2023/02/mt-anthony-country-clubmt-anthony-2022-macc-wednesday-social-league-facebook-event-cover.png
END:VEVENT
BEGIN:VEVENT
DTSTART;VALUE=DATE:20241027
DTEND;VALUE=DATE:20241028
DTSTAMP:20260423T062503
CREATED:20240306T232359Z
LAST-MODIFIED:20240613T144218Z
UID:10001677-1729987200-1730073599@mtanthonycc.com
SUMMARY:Scary Pins Halloween Scramble
DESCRIPTION:
URL:https://mtanthonycc.com/event/scary-pins-halloween-scramble-3/
CATEGORIES:Event
END:VEVENT
END:VCALENDAR