BEGIN:VCALENDAR
VERSION:2.0
PRODID:-//Mt. Anthony - ECPv6.15.20//NONSGML v1.0//EN
CALSCALE:GREGORIAN
METHOD:PUBLISH
X-ORIGINAL-URL:https://mtanthonycc.com
X-WR-CALDESC:Events for Mt. Anthony
REFRESH-INTERVAL;VALUE=DURATION:PT1H
X-Robots-Tag:noindex
X-PUBLISHED-TTL:PT1H
BEGIN:VTIMEZONE
TZID:America/Toronto
BEGIN:DAYLIGHT
TZOFFSETFROM:-0500
TZOFFSETTO:-0400
TZNAME:EDT
DTSTART:20230312T070000
END:DAYLIGHT
BEGIN:STANDARD
TZOFFSETFROM:-0400
TZOFFSETTO:-0500
TZNAME:EST
DTSTART:20231105T060000
END:STANDARD
BEGIN:DAYLIGHT
TZOFFSETFROM:-0500
TZOFFSETTO:-0400
TZNAME:EDT
DTSTART:20240310T070000
END:DAYLIGHT
BEGIN:STANDARD
TZOFFSETFROM:-0400
TZOFFSETTO:-0500
TZNAME:EST
DTSTART:20241103T060000
END:STANDARD
BEGIN:DAYLIGHT
TZOFFSETFROM:-0500
TZOFFSETTO:-0400
TZNAME:EDT
DTSTART:20250309T070000
END:DAYLIGHT
BEGIN:STANDARD
TZOFFSETFROM:-0400
TZOFFSETTO:-0500
TZNAME:EST
DTSTART:20251102T060000
END:STANDARD
END:VTIMEZONE
BEGIN:VEVENT
DTSTART;VALUE=DATE:20240801
DTEND;VALUE=DATE:20240802
DTSTAMP:20260423T100647
CREATED:20240507T135133Z
LAST-MODIFIED:20240613T144300Z
UID:10002282-1722470400-1722556799@mtanthonycc.com
SUMMARY:Ladies 18 Hole League
DESCRIPTION:
URL:https://mtanthonycc.com/event/ladies-18-hole-league-4/2024-08-01/
CATEGORIES:Event
END:VEVENT
BEGIN:VEVENT
DTSTART;VALUE=DATE:20240802
DTEND;VALUE=DATE:20240803
DTSTAMP:20260423T100647
CREATED:20240306T231126Z
LAST-MODIFIED:20240613T144259Z
UID:10001669-1722556800-1722643199@mtanthonycc.com
SUMMARY:One Day Member Guest
DESCRIPTION:
URL:https://mtanthonycc.com/event/one-day-member-guest-2/
CATEGORIES:Event
END:VEVENT
BEGIN:VEVENT
DTSTART;TZID=America/Toronto:20240803T080000
DTEND;TZID=America/Toronto:20240803T170000
DTSTAMP:20260423T100647
CREATED:20240603T173228Z
LAST-MODIFIED:20240613T144219Z
UID:10002289-1722672000-1722704400@mtanthonycc.com
SUMMARY:Women's Invitational
DESCRIPTION:
URL:https://mtanthonycc.com/event/womens-invitational/
CATEGORIES:Event
END:VEVENT
BEGIN:VEVENT
DTSTART;VALUE=DATE:20240806
DTEND;VALUE=DATE:20240807
DTSTAMP:20260423T100647
CREATED:20240507T131847Z
LAST-MODIFIED:20240613T144300Z
UID:10002261-1722902400-1722988799@mtanthonycc.com
SUMMARY:Croquet League
DESCRIPTION:
URL:https://mtanthonycc.com/event/croquet-league-3/2024-08-06/
CATEGORIES:Event
END:VEVENT
BEGIN:VEVENT
DTSTART;VALUE=DATE:20240807
DTEND;VALUE=DATE:20240808
DTSTAMP:20260423T100647
CREATED:20240507T125931Z
LAST-MODIFIED:20240613T144337Z
UID:10002243-1722988800-1723075199@mtanthonycc.com
SUMMARY:Social League
DESCRIPTION:Please call the Pro shop (802) 447-7079 to sign up \n 
URL:https://mtanthonycc.com/event/social-league-2/2024-08-07/
LOCATION:MOUNT ANTHONY COUNTRY CLUB\, 180 Country Club Road\, Bennington\, Vemont\, 05201
CATEGORIES:Event,Repeating Event
ATTACH;FMTTYPE=image/png:https://mtanthonycc.com/wp-content/uploads/2023/02/mt-anthony-country-clubmt-anthony-2022-macc-wednesday-social-league-facebook-event-cover.png
END:VEVENT
BEGIN:VEVENT
DTSTART;VALUE=DATE:20240807
DTEND;VALUE=DATE:20240808
DTSTAMP:20260423T100647
CREATED:20240507T135036Z
LAST-MODIFIED:20240613T144336Z
UID:10002271-1722988800-1723075199@mtanthonycc.com
SUMMARY:Ladies 9 Hole League
DESCRIPTION:
URL:https://mtanthonycc.com/event/ladies-9-hole-league-3/2024-08-07/
CATEGORIES:Event
END:VEVENT
BEGIN:VEVENT
DTSTART;VALUE=DATE:20240808
DTEND;VALUE=DATE:20240809
DTSTAMP:20260423T100647
CREATED:20240507T135133Z
LAST-MODIFIED:20240613T144300Z
UID:10002283-1723075200-1723161599@mtanthonycc.com
SUMMARY:Ladies 18 Hole League
DESCRIPTION:
URL:https://mtanthonycc.com/event/ladies-18-hole-league-4/2024-08-08/
CATEGORIES:Event
END:VEVENT
BEGIN:VEVENT
DTSTART;VALUE=DATE:20240809
DTEND;VALUE=DATE:20240810
DTSTAMP:20260423T100647
CREATED:20240306T231251Z
LAST-MODIFIED:20240613T144219Z
UID:10001670-1723161600-1723247999@mtanthonycc.com
SUMMARY:VNA Hospice
DESCRIPTION:﻿SponsorPacket_GolfDay24_VNA FINAL
URL:https://mtanthonycc.com/event/vna-hospice-2/
CATEGORIES:Event
END:VEVENT
BEGIN:VEVENT
DTSTART;VALUE=DATE:20240810
DTEND;VALUE=DATE:20240812
DTSTAMP:20260423T100647
CREATED:20240306T231325Z
LAST-MODIFIED:20240613T144219Z
UID:10001671-1723248000-1723420799@mtanthonycc.com
SUMMARY:Morse Cup
DESCRIPTION:
URL:https://mtanthonycc.com/event/morse-cup-4/
CATEGORIES:Event
END:VEVENT
BEGIN:VEVENT
DTSTART;TZID=America/Toronto:20240812T090000
DTEND;TZID=America/Toronto:20240816T150000
DTSTAMP:20260423T100647
CREATED:20240306T231446Z
LAST-MODIFIED:20240613T144219Z
UID:10001672-1723453200-1723820400@mtanthonycc.com
SUMMARY:Junior Golf & Swim Camp
DESCRIPTION:
URL:https://mtanthonycc.com/event/junior-golf-swim-camp-4/
CATEGORIES:Event
END:VEVENT
BEGIN:VEVENT
DTSTART;VALUE=DATE:20240814
DTEND;VALUE=DATE:20240815
DTSTAMP:20260423T100647
CREATED:20240507T125931Z
LAST-MODIFIED:20240613T144337Z
UID:10002244-1723593600-1723679999@mtanthonycc.com
SUMMARY:Social League
DESCRIPTION:Please call the Pro shop (802) 447-7079 to sign up \n 
URL:https://mtanthonycc.com/event/social-league-2/2024-08-14/
LOCATION:MOUNT ANTHONY COUNTRY CLUB\, 180 Country Club Road\, Bennington\, Vemont\, 05201
CATEGORIES:Event,Repeating Event
ATTACH;FMTTYPE=image/png:https://mtanthonycc.com/wp-content/uploads/2023/02/mt-anthony-country-clubmt-anthony-2022-macc-wednesday-social-league-facebook-event-cover.png
END:VEVENT
BEGIN:VEVENT
DTSTART;VALUE=DATE:20240814
DTEND;VALUE=DATE:20240815
DTSTAMP:20260423T100647
CREATED:20240507T135036Z
LAST-MODIFIED:20240613T144336Z
UID:10002272-1723593600-1723679999@mtanthonycc.com
SUMMARY:Ladies 9 Hole League
DESCRIPTION:
URL:https://mtanthonycc.com/event/ladies-9-hole-league-3/2024-08-14/
CATEGORIES:Event
END:VEVENT
BEGIN:VEVENT
DTSTART;TZID=America/Toronto:20240815T100000
DTEND;TZID=America/Toronto:20240815T163000
DTSTAMP:20260423T100647
CREATED:20240603T171141Z
LAST-MODIFIED:20240613T144219Z
UID:10002285-1723716000-1723739400@mtanthonycc.com
SUMMARY:VNA & Hospice of The Southwest Region
DESCRIPTION:SponsorPacket_GolfDay24_VNA FINAL\nVisit the Website to Learn More
URL:https://mtanthonycc.com/event/https-mtanthonycc-com-wp-content-uploads-2024-06-sponsorpacket_golfday24_vna-final-pdf/
CATEGORIES:Event
END:VEVENT
BEGIN:VEVENT
DTSTART;TZID=America/Toronto:20240816T113000
DTEND;TZID=America/Toronto:20240816T193000
DTSTAMP:20260423T100647
CREATED:20240603T172716Z
LAST-MODIFIED:20240613T144219Z
UID:10002287-1723807800-1723836600@mtanthonycc.com
SUMMARY:Jamie Hill Memorial Tournament
DESCRIPTION:Jamie Hill Memorial Golf Tournament Registration Form
URL:https://mtanthonycc.com/event/jamie-hill-memorial-tournament/
CATEGORIES:Event
END:VEVENT
BEGIN:VEVENT
DTSTART;VALUE=DATE:20240817
DTEND;VALUE=DATE:20240818
DTSTAMP:20260423T100647
CREATED:20240306T231526Z
LAST-MODIFIED:20240613T144219Z
UID:10001673-1723852800-1723939199@mtanthonycc.com
SUMMARY:Ladies Club Championship Day One
DESCRIPTION:
URL:https://mtanthonycc.com/event/ladies-club-championship-day-one-3/
CATEGORIES:Event
END:VEVENT
BEGIN:VEVENT
DTSTART;TZID=America/Toronto:20240818T080000
DTEND;TZID=America/Toronto:20240818T170000
DTSTAMP:20260423T100647
CREATED:20240603T200612Z
LAST-MODIFIED:20240613T144219Z
UID:10002290-1723968000-1724000400@mtanthonycc.com
SUMMARY:Ladies' Club Championship Day 2
DESCRIPTION:
URL:https://mtanthonycc.com/event/ladies-club-championship-day-2/
CATEGORIES:Event
END:VEVENT
BEGIN:VEVENT
DTSTART;VALUE=DATE:20240821
DTEND;VALUE=DATE:20240822
DTSTAMP:20260423T100647
CREATED:20240507T125931Z
LAST-MODIFIED:20240613T144337Z
UID:10002245-1724198400-1724284799@mtanthonycc.com
SUMMARY:Social League
DESCRIPTION:Please call the Pro shop (802) 447-7079 to sign up \n 
URL:https://mtanthonycc.com/event/social-league-2/2024-08-21/
LOCATION:MOUNT ANTHONY COUNTRY CLUB\, 180 Country Club Road\, Bennington\, Vemont\, 05201
CATEGORIES:Event,Repeating Event
ATTACH;FMTTYPE=image/png:https://mtanthonycc.com/wp-content/uploads/2023/02/mt-anthony-country-clubmt-anthony-2022-macc-wednesday-social-league-facebook-event-cover.png
END:VEVENT
BEGIN:VEVENT
DTSTART;VALUE=DATE:20240821
DTEND;VALUE=DATE:20240822
DTSTAMP:20260423T100647
CREATED:20240507T135036Z
LAST-MODIFIED:20240613T144336Z
UID:10002273-1724198400-1724284799@mtanthonycc.com
SUMMARY:Ladies 9 Hole League
DESCRIPTION:
URL:https://mtanthonycc.com/event/ladies-9-hole-league-3/2024-08-21/
CATEGORIES:Event
END:VEVENT
BEGIN:VEVENT
DTSTART;TZID=America/Toronto:20240823T080000
DTEND;TZID=America/Toronto:20240823T170000
DTSTAMP:20260423T100647
CREATED:20240603T173032Z
LAST-MODIFIED:20240613T144219Z
UID:10002288-1724400000-1724432400@mtanthonycc.com
SUMMARY:Coggins Charity Golf Tournament
DESCRIPTION:﻿2024 Coggins Classic Solicitation Packet (1)
URL:https://mtanthonycc.com/event/coggins-charity-golf-tournament/
CATEGORIES:Event
END:VEVENT
BEGIN:VEVENT
DTSTART;VALUE=DATE:20240828
DTEND;VALUE=DATE:20240829
DTSTAMP:20260423T100647
CREATED:20240507T125931Z
LAST-MODIFIED:20240613T144337Z
UID:10002246-1724803200-1724889599@mtanthonycc.com
SUMMARY:Social League
DESCRIPTION:Please call the Pro shop (802) 447-7079 to sign up \n 
URL:https://mtanthonycc.com/event/social-league-2/2024-08-28/
LOCATION:MOUNT ANTHONY COUNTRY CLUB\, 180 Country Club Road\, Bennington\, Vemont\, 05201
CATEGORIES:Event,Repeating Event
ATTACH;FMTTYPE=image/png:https://mtanthonycc.com/wp-content/uploads/2023/02/mt-anthony-country-clubmt-anthony-2022-macc-wednesday-social-league-facebook-event-cover.png
END:VEVENT
END:VCALENDAR