BEGIN:VCALENDAR
VERSION:2.0
PRODID:-//Mt. Anthony - ECPv6.15.20//NONSGML v1.0//EN
CALSCALE:GREGORIAN
METHOD:PUBLISH
X-WR-CALNAME:Mt. Anthony
X-ORIGINAL-URL:https://mtanthonycc.com
X-WR-CALDESC:Events for Mt. Anthony
REFRESH-INTERVAL;VALUE=DURATION:PT1H
X-Robots-Tag:noindex
X-PUBLISHED-TTL:PT1H
BEGIN:VTIMEZONE
TZID:America/Toronto
BEGIN:DAYLIGHT
TZOFFSETFROM:-0500
TZOFFSETTO:-0400
TZNAME:EDT
DTSTART:20230312T070000
END:DAYLIGHT
BEGIN:STANDARD
TZOFFSETFROM:-0400
TZOFFSETTO:-0500
TZNAME:EST
DTSTART:20231105T060000
END:STANDARD
BEGIN:DAYLIGHT
TZOFFSETFROM:-0500
TZOFFSETTO:-0400
TZNAME:EDT
DTSTART:20240310T070000
END:DAYLIGHT
BEGIN:STANDARD
TZOFFSETFROM:-0400
TZOFFSETTO:-0500
TZNAME:EST
DTSTART:20241103T060000
END:STANDARD
BEGIN:DAYLIGHT
TZOFFSETFROM:-0500
TZOFFSETTO:-0400
TZNAME:EDT
DTSTART:20250309T070000
END:DAYLIGHT
BEGIN:STANDARD
TZOFFSETFROM:-0400
TZOFFSETTO:-0500
TZNAME:EST
DTSTART:20251102T060000
END:STANDARD
END:VTIMEZONE
BEGIN:VEVENT
DTSTART;VALUE=DATE:20240701
DTEND;VALUE=DATE:20240702
DTSTAMP:20260423T114858
CREATED:20240507T123604Z
LAST-MODIFIED:20240613T144337Z
UID:10001952-1719792000-1719878399@mtanthonycc.com
SUMMARY:Industrial League
DESCRIPTION:
URL:https://mtanthonycc.com/event/industrial-league/2024-07-01/
CATEGORIES:Event
END:VEVENT
BEGIN:VEVENT
DTSTART;VALUE=DATE:20240702
DTEND;VALUE=DATE:20240703
DTSTAMP:20260423T114858
CREATED:20240507T131847Z
LAST-MODIFIED:20240613T144300Z
UID:10002256-1719878400-1719964799@mtanthonycc.com
SUMMARY:Croquet League
DESCRIPTION:
URL:https://mtanthonycc.com/event/croquet-league-3/2024-07-02/
CATEGORIES:Event
END:VEVENT
BEGIN:VEVENT
DTSTART;VALUE=DATE:20240703
DTEND;VALUE=DATE:20240704
DTSTAMP:20260423T114858
CREATED:20240507T125931Z
LAST-MODIFIED:20240613T144337Z
UID:10002238-1719964800-1720051199@mtanthonycc.com
SUMMARY:Social League
DESCRIPTION:Please call the Pro shop (802) 447-7079 to sign up \n 
URL:https://mtanthonycc.com/event/social-league-2/2024-07-03/
LOCATION:MOUNT ANTHONY COUNTRY CLUB\, 180 Country Club Road\, Bennington\, Vemont\, 05201
CATEGORIES:Event,Repeating Event
ATTACH;FMTTYPE=image/png:https://mtanthonycc.com/wp-content/uploads/2023/02/mt-anthony-country-clubmt-anthony-2022-macc-wednesday-social-league-facebook-event-cover.png
END:VEVENT
BEGIN:VEVENT
DTSTART;VALUE=DATE:20240703
DTEND;VALUE=DATE:20240704
DTSTAMP:20260423T114858
CREATED:20240507T135036Z
LAST-MODIFIED:20240613T144336Z
UID:10002266-1719964800-1720051199@mtanthonycc.com
SUMMARY:Ladies 9 Hole League
DESCRIPTION:
URL:https://mtanthonycc.com/event/ladies-9-hole-league-3/2024-07-03/
CATEGORIES:Event
END:VEVENT
BEGIN:VEVENT
DTSTART;VALUE=DATE:20240704
DTEND;VALUE=DATE:20240705
DTSTAMP:20260423T114858
CREATED:20240306T225844Z
LAST-MODIFIED:20240613T144259Z
UID:10001663-1720051200-1720137599@mtanthonycc.com
SUMMARY:"Red White & Blue" Golf Tournament
DESCRIPTION:
URL:https://mtanthonycc.com/event/red-white-blue-golf-tournament-3/
CATEGORIES:Event
END:VEVENT
BEGIN:VEVENT
DTSTART;VALUE=DATE:20240704
DTEND;VALUE=DATE:20240705
DTSTAMP:20260423T114858
CREATED:20240507T135133Z
LAST-MODIFIED:20240613T144300Z
UID:10002278-1720051200-1720137599@mtanthonycc.com
SUMMARY:Ladies 18 Hole League
DESCRIPTION:
URL:https://mtanthonycc.com/event/ladies-18-hole-league-4/2024-07-04/
CATEGORIES:Event
END:VEVENT
BEGIN:VEVENT
DTSTART;VALUE=DATE:20240708
DTEND;VALUE=DATE:20240709
DTSTAMP:20260423T114858
CREATED:20240507T123604Z
LAST-MODIFIED:20240613T144337Z
UID:10001953-1720396800-1720483199@mtanthonycc.com
SUMMARY:Industrial League
DESCRIPTION:
URL:https://mtanthonycc.com/event/industrial-league/2024-07-08/
CATEGORIES:Event
END:VEVENT
BEGIN:VEVENT
DTSTART;VALUE=DATE:20240709
DTEND;VALUE=DATE:20240710
DTSTAMP:20260423T114858
CREATED:20240507T131847Z
LAST-MODIFIED:20240613T144300Z
UID:10002257-1720483200-1720569599@mtanthonycc.com
SUMMARY:Croquet League
DESCRIPTION:
URL:https://mtanthonycc.com/event/croquet-league-3/2024-07-09/
CATEGORIES:Event
END:VEVENT
BEGIN:VEVENT
DTSTART;VALUE=DATE:20240710
DTEND;VALUE=DATE:20240711
DTSTAMP:20260423T114858
CREATED:20240507T125931Z
LAST-MODIFIED:20240613T144337Z
UID:10002239-1720569600-1720655999@mtanthonycc.com
SUMMARY:Social League
DESCRIPTION:Please call the Pro shop (802) 447-7079 to sign up \n 
URL:https://mtanthonycc.com/event/social-league-2/2024-07-10/
LOCATION:MOUNT ANTHONY COUNTRY CLUB\, 180 Country Club Road\, Bennington\, Vemont\, 05201
CATEGORIES:Event,Repeating Event
ATTACH;FMTTYPE=image/png:https://mtanthonycc.com/wp-content/uploads/2023/02/mt-anthony-country-clubmt-anthony-2022-macc-wednesday-social-league-facebook-event-cover.png
END:VEVENT
BEGIN:VEVENT
DTSTART;VALUE=DATE:20240710
DTEND;VALUE=DATE:20240711
DTSTAMP:20260423T114858
CREATED:20240507T135036Z
LAST-MODIFIED:20240613T144336Z
UID:10002267-1720569600-1720655999@mtanthonycc.com
SUMMARY:Ladies 9 Hole League
DESCRIPTION:
URL:https://mtanthonycc.com/event/ladies-9-hole-league-3/2024-07-10/
CATEGORIES:Event
END:VEVENT
BEGIN:VEVENT
DTSTART;VALUE=DATE:20240711
DTEND;VALUE=DATE:20240712
DTSTAMP:20260423T114858
CREATED:20240507T135133Z
LAST-MODIFIED:20240613T144300Z
UID:10002279-1720656000-1720742399@mtanthonycc.com
SUMMARY:Ladies 18 Hole League
DESCRIPTION:
URL:https://mtanthonycc.com/event/ladies-18-hole-league-4/2024-07-11/
CATEGORIES:Event
END:VEVENT
BEGIN:VEVENT
DTSTART;VALUE=DATE:20240715
DTEND;VALUE=DATE:20240716
DTSTAMP:20260423T114858
CREATED:20240306T225921Z
LAST-MODIFIED:20240613T144259Z
UID:10001664-1721001600-1721087999@mtanthonycc.com
SUMMARY:Bartender's Open Golf Scramble
DESCRIPTION:
URL:https://mtanthonycc.com/event/bartenders-open-golf-scramble-2/
CATEGORIES:Event
END:VEVENT
BEGIN:VEVENT
DTSTART;VALUE=DATE:20240715
DTEND;VALUE=DATE:20240716
DTSTAMP:20260423T114858
CREATED:20240507T123604Z
LAST-MODIFIED:20240613T144337Z
UID:10001954-1721001600-1721087999@mtanthonycc.com
SUMMARY:Industrial League
DESCRIPTION:
URL:https://mtanthonycc.com/event/industrial-league/2024-07-15/
CATEGORIES:Event
END:VEVENT
BEGIN:VEVENT
DTSTART;VALUE=DATE:20240716
DTEND;VALUE=DATE:20240717
DTSTAMP:20260423T114858
CREATED:20240507T131847Z
LAST-MODIFIED:20240613T144300Z
UID:10002258-1721088000-1721174399@mtanthonycc.com
SUMMARY:Croquet League
DESCRIPTION:
URL:https://mtanthonycc.com/event/croquet-league-3/2024-07-16/
CATEGORIES:Event
END:VEVENT
BEGIN:VEVENT
DTSTART;VALUE=DATE:20240717
DTEND;VALUE=DATE:20240718
DTSTAMP:20260423T114858
CREATED:20240507T125931Z
LAST-MODIFIED:20240613T144337Z
UID:10002240-1721174400-1721260799@mtanthonycc.com
SUMMARY:Social League
DESCRIPTION:Please call the Pro shop (802) 447-7079 to sign up \n 
URL:https://mtanthonycc.com/event/social-league-2/2024-07-17/
LOCATION:MOUNT ANTHONY COUNTRY CLUB\, 180 Country Club Road\, Bennington\, Vemont\, 05201
CATEGORIES:Event,Repeating Event
ATTACH;FMTTYPE=image/png:https://mtanthonycc.com/wp-content/uploads/2023/02/mt-anthony-country-clubmt-anthony-2022-macc-wednesday-social-league-facebook-event-cover.png
END:VEVENT
BEGIN:VEVENT
DTSTART;VALUE=DATE:20240717
DTEND;VALUE=DATE:20240718
DTSTAMP:20260423T114858
CREATED:20240507T135036Z
LAST-MODIFIED:20240613T144336Z
UID:10002268-1721174400-1721260799@mtanthonycc.com
SUMMARY:Ladies 9 Hole League
DESCRIPTION:
URL:https://mtanthonycc.com/event/ladies-9-hole-league-3/2024-07-17/
CATEGORIES:Event
END:VEVENT
BEGIN:VEVENT
DTSTART;VALUE=DATE:20240718
DTEND;VALUE=DATE:20240719
DTSTAMP:20260423T114858
CREATED:20240507T135133Z
LAST-MODIFIED:20240613T144300Z
UID:10002280-1721260800-1721347199@mtanthonycc.com
SUMMARY:Ladies 18 Hole League
DESCRIPTION:
URL:https://mtanthonycc.com/event/ladies-18-hole-league-4/2024-07-18/
CATEGORIES:Event
END:VEVENT
BEGIN:VEVENT
DTSTART;VALUE=DATE:20240720
DTEND;VALUE=DATE:20240721
DTSTAMP:20260423T114858
CREATED:20240306T230047Z
LAST-MODIFIED:20240613T144259Z
UID:10001665-1721433600-1721519999@mtanthonycc.com
SUMMARY:MAU Wrestling Club Tournament
DESCRIPTION:
URL:https://mtanthonycc.com/event/mau-wrestling-club-tournament/
CATEGORIES:Event
END:VEVENT
BEGIN:VEVENT
DTSTART;VALUE=DATE:20240722
DTEND;VALUE=DATE:20240723
DTSTAMP:20260423T114858
CREATED:20240507T123604Z
LAST-MODIFIED:20240613T144337Z
UID:10001955-1721606400-1721692799@mtanthonycc.com
SUMMARY:Industrial League
DESCRIPTION:
URL:https://mtanthonycc.com/event/industrial-league/2024-07-22/
CATEGORIES:Event
END:VEVENT
BEGIN:VEVENT
DTSTART;TZID=America/Toronto:20240722T090000
DTEND;TZID=America/Toronto:20240726T150000
DTSTAMP:20260423T114858
CREATED:20240306T230305Z
LAST-MODIFIED:20240613T144259Z
UID:10001666-1721638800-1722006000@mtanthonycc.com
SUMMARY:Junior Golf & Swim Camp
DESCRIPTION:
URL:https://mtanthonycc.com/event/junior-golf-swim-camp-3/
CATEGORIES:Event
END:VEVENT
BEGIN:VEVENT
DTSTART;VALUE=DATE:20240723
DTEND;VALUE=DATE:20240724
DTSTAMP:20260423T114858
CREATED:20240507T131847Z
LAST-MODIFIED:20240613T144300Z
UID:10002259-1721692800-1721779199@mtanthonycc.com
SUMMARY:Croquet League
DESCRIPTION:
URL:https://mtanthonycc.com/event/croquet-league-3/2024-07-23/
CATEGORIES:Event
END:VEVENT
BEGIN:VEVENT
DTSTART;VALUE=DATE:20240724
DTEND;VALUE=DATE:20240725
DTSTAMP:20260423T114858
CREATED:20240507T125931Z
LAST-MODIFIED:20240613T144337Z
UID:10002241-1721779200-1721865599@mtanthonycc.com
SUMMARY:Social League
DESCRIPTION:Please call the Pro shop (802) 447-7079 to sign up \n 
URL:https://mtanthonycc.com/event/social-league-2/2024-07-24/
LOCATION:MOUNT ANTHONY COUNTRY CLUB\, 180 Country Club Road\, Bennington\, Vemont\, 05201
CATEGORIES:Event,Repeating Event
ATTACH;FMTTYPE=image/png:https://mtanthonycc.com/wp-content/uploads/2023/02/mt-anthony-country-clubmt-anthony-2022-macc-wednesday-social-league-facebook-event-cover.png
END:VEVENT
BEGIN:VEVENT
DTSTART;VALUE=DATE:20240724
DTEND;VALUE=DATE:20240725
DTSTAMP:20260423T114858
CREATED:20240507T135036Z
LAST-MODIFIED:20240613T144336Z
UID:10002269-1721779200-1721865599@mtanthonycc.com
SUMMARY:Ladies 9 Hole League
DESCRIPTION:
URL:https://mtanthonycc.com/event/ladies-9-hole-league-3/2024-07-24/
CATEGORIES:Event
END:VEVENT
BEGIN:VEVENT
DTSTART;VALUE=DATE:20240725
DTEND;VALUE=DATE:20240726
DTSTAMP:20260423T114858
CREATED:20240507T135133Z
LAST-MODIFIED:20240613T144300Z
UID:10002281-1721865600-1721951999@mtanthonycc.com
SUMMARY:Ladies 18 Hole League
DESCRIPTION:
URL:https://mtanthonycc.com/event/ladies-18-hole-league-4/2024-07-25/
CATEGORIES:Event
END:VEVENT
BEGIN:VEVENT
DTSTART;VALUE=DATE:20240727
DTEND;VALUE=DATE:20240728
DTSTAMP:20260423T114858
CREATED:20240306T230337Z
LAST-MODIFIED:20240613T144259Z
UID:10001667-1722038400-1722124799@mtanthonycc.com
SUMMARY:Men's One Day Member/Guest Tournament
DESCRIPTION:
URL:https://mtanthonycc.com/event/mens-one-day-member-guest-tournament-2/
CATEGORIES:Event
END:VEVENT
BEGIN:VEVENT
DTSTART;VALUE=DATE:20240728
DTEND;VALUE=DATE:20240729
DTSTAMP:20260423T114858
CREATED:20240306T230409Z
LAST-MODIFIED:20240613T144259Z
UID:10001668-1722124800-1722211199@mtanthonycc.com
SUMMARY:Sadie Hawkins Tournament
DESCRIPTION:
URL:https://mtanthonycc.com/event/sadie-hawkins-tournament-3/
CATEGORIES:Event
END:VEVENT
BEGIN:VEVENT
DTSTART;VALUE=DATE:20240729
DTEND;VALUE=DATE:20240730
DTSTAMP:20260423T114858
CREATED:20240507T123604Z
LAST-MODIFIED:20240613T144337Z
UID:10001956-1722211200-1722297599@mtanthonycc.com
SUMMARY:Industrial League
DESCRIPTION:
URL:https://mtanthonycc.com/event/industrial-league/2024-07-29/
CATEGORIES:Event
END:VEVENT
BEGIN:VEVENT
DTSTART;VALUE=DATE:20240730
DTEND;VALUE=DATE:20240731
DTSTAMP:20260423T114858
CREATED:20240507T131847Z
LAST-MODIFIED:20240613T144300Z
UID:10002260-1722297600-1722383999@mtanthonycc.com
SUMMARY:Croquet League
DESCRIPTION:
URL:https://mtanthonycc.com/event/croquet-league-3/2024-07-30/
CATEGORIES:Event
END:VEVENT
BEGIN:VEVENT
DTSTART;VALUE=DATE:20240731
DTEND;VALUE=DATE:20240801
DTSTAMP:20260423T114858
CREATED:20240507T125931Z
LAST-MODIFIED:20240613T144337Z
UID:10002242-1722384000-1722470399@mtanthonycc.com
SUMMARY:Social League
DESCRIPTION:Please call the Pro shop (802) 447-7079 to sign up \n 
URL:https://mtanthonycc.com/event/social-league-2/2024-07-31/
LOCATION:MOUNT ANTHONY COUNTRY CLUB\, 180 Country Club Road\, Bennington\, Vemont\, 05201
CATEGORIES:Event,Repeating Event
ATTACH;FMTTYPE=image/png:https://mtanthonycc.com/wp-content/uploads/2023/02/mt-anthony-country-clubmt-anthony-2022-macc-wednesday-social-league-facebook-event-cover.png
END:VEVENT
BEGIN:VEVENT
DTSTART;VALUE=DATE:20240731
DTEND;VALUE=DATE:20240801
DTSTAMP:20260423T114858
CREATED:20240507T135036Z
LAST-MODIFIED:20240613T144336Z
UID:10002270-1722384000-1722470399@mtanthonycc.com
SUMMARY:Ladies 9 Hole League
DESCRIPTION:
URL:https://mtanthonycc.com/event/ladies-9-hole-league-3/2024-07-31/
CATEGORIES:Event
END:VEVENT
END:VCALENDAR