BEGIN:VCALENDAR
VERSION:2.0
PRODID:-//Mt. Anthony - ECPv6.15.20//NONSGML v1.0//EN
CALSCALE:GREGORIAN
METHOD:PUBLISH
X-WR-CALNAME:Mt. Anthony
X-ORIGINAL-URL:https://mtanthonycc.com
X-WR-CALDESC:Events for Mt. Anthony
REFRESH-INTERVAL;VALUE=DURATION:PT1H
X-Robots-Tag:noindex
X-PUBLISHED-TTL:PT1H
BEGIN:VTIMEZONE
TZID:America/Toronto
BEGIN:DAYLIGHT
TZOFFSETFROM:-0500
TZOFFSETTO:-0400
TZNAME:EDT
DTSTART:20230312T070000
END:DAYLIGHT
BEGIN:STANDARD
TZOFFSETFROM:-0400
TZOFFSETTO:-0500
TZNAME:EST
DTSTART:20231105T060000
END:STANDARD
BEGIN:DAYLIGHT
TZOFFSETFROM:-0500
TZOFFSETTO:-0400
TZNAME:EDT
DTSTART:20240310T070000
END:DAYLIGHT
BEGIN:STANDARD
TZOFFSETFROM:-0400
TZOFFSETTO:-0500
TZNAME:EST
DTSTART:20241103T060000
END:STANDARD
BEGIN:DAYLIGHT
TZOFFSETFROM:-0500
TZOFFSETTO:-0400
TZNAME:EDT
DTSTART:20250309T070000
END:DAYLIGHT
BEGIN:STANDARD
TZOFFSETFROM:-0400
TZOFFSETTO:-0500
TZNAME:EST
DTSTART:20251102T060000
END:STANDARD
END:VTIMEZONE
BEGIN:VEVENT
DTSTART;VALUE=DATE:20240602
DTEND;VALUE=DATE:20240603
DTSTAMP:20260423T132043
CREATED:20240507T131743Z
LAST-MODIFIED:20240613T144336Z
UID:10002252-1717286400-1717372799@mtanthonycc.com
SUMMARY:BPI Benefit Tournament
DESCRIPTION:
URL:https://mtanthonycc.com/event/bpi-benefit-tournament-3/
CATEGORIES:Event
END:VEVENT
BEGIN:VEVENT
DTSTART;VALUE=DATE:20240603
DTEND;VALUE=DATE:20240604
DTSTAMP:20260423T132043
CREATED:20240507T123604Z
LAST-MODIFIED:20240613T144337Z
UID:10001948-1717372800-1717459199@mtanthonycc.com
SUMMARY:Industrial League
DESCRIPTION:
URL:https://mtanthonycc.com/event/industrial-league/2024-06-03/
CATEGORIES:Event
END:VEVENT
BEGIN:VEVENT
DTSTART;TZID=America/Toronto:20240603T080000
DTEND;TZID=America/Toronto:20240603T170000
DTSTAMP:20260423T132043
CREATED:20240603T171227Z
LAST-MODIFIED:20240613T144336Z
UID:10002286-1717401600-1717434000@mtanthonycc.com
SUMMARY:
DESCRIPTION:﻿
URL:https://mtanthonycc.com/event/12576/
CATEGORIES:Event
END:VEVENT
BEGIN:VEVENT
DTSTART;VALUE=DATE:20240604
DTEND;VALUE=DATE:20240605
DTSTAMP:20260423T132043
CREATED:20240306T224236Z
LAST-MODIFIED:20240613T144336Z
UID:10001655-1717459200-1717545599@mtanthonycc.com
SUMMARY:Croquet League Starts
DESCRIPTION:
URL:https://mtanthonycc.com/event/croquet-league-starts/
CATEGORIES:Event
END:VEVENT
BEGIN:VEVENT
DTSTART;VALUE=DATE:20240605
DTEND;VALUE=DATE:20240606
DTSTAMP:20260423T132043
CREATED:20240507T125931Z
LAST-MODIFIED:20240613T144337Z
UID:10002234-1717545600-1717631999@mtanthonycc.com
SUMMARY:Social League
DESCRIPTION:Please call the Pro shop (802) 447-7079 to sign up \n 
URL:https://mtanthonycc.com/event/social-league-2/2024-06-05/
LOCATION:MOUNT ANTHONY COUNTRY CLUB\, 180 Country Club Road\, Bennington\, Vemont\, 05201
CATEGORIES:Event,Repeating Event
ATTACH;FMTTYPE=image/png:https://mtanthonycc.com/wp-content/uploads/2023/02/mt-anthony-country-clubmt-anthony-2022-macc-wednesday-social-league-facebook-event-cover.png
END:VEVENT
BEGIN:VEVENT
DTSTART;VALUE=DATE:20240605
DTEND;VALUE=DATE:20240606
DTSTAMP:20260423T132043
CREATED:20240507T135036Z
LAST-MODIFIED:20240613T144336Z
UID:10002262-1717545600-1717631999@mtanthonycc.com
SUMMARY:Ladies 9 Hole League
DESCRIPTION:
URL:https://mtanthonycc.com/event/ladies-9-hole-league-3/2024-06-05/
CATEGORIES:Event
END:VEVENT
BEGIN:VEVENT
DTSTART;VALUE=DATE:20240606
DTEND;VALUE=DATE:20240607
DTSTAMP:20260423T132043
CREATED:20240306T224726Z
LAST-MODIFIED:20240613T144336Z
UID:10001657-1717632000-1717718399@mtanthonycc.com
SUMMARY:Ladies 18 Hole League
DESCRIPTION:Womens Golf Leagues 2024.pdf
URL:https://mtanthonycc.com/event/ladies-18-hole-league-3/
CATEGORIES:Event
END:VEVENT
BEGIN:VEVENT
DTSTART;VALUE=DATE:20240606
DTEND;VALUE=DATE:20240607
DTSTAMP:20260423T132043
CREATED:20240306T224759Z
LAST-MODIFIED:20240613T144336Z
UID:10001658-1717632000-1717718399@mtanthonycc.com
SUMMARY:Elk's League
DESCRIPTION:
URL:https://mtanthonycc.com/event/elks-league/
CATEGORIES:Event
END:VEVENT
BEGIN:VEVENT
DTSTART;VALUE=DATE:20240606
DTEND;VALUE=DATE:20240607
DTSTAMP:20260423T132043
CREATED:20240507T135133Z
LAST-MODIFIED:20240613T144300Z
UID:10002274-1717632000-1717718399@mtanthonycc.com
SUMMARY:Ladies 18 Hole League
DESCRIPTION:
URL:https://mtanthonycc.com/event/ladies-18-hole-league-4/2024-06-06/
CATEGORIES:Event
END:VEVENT
BEGIN:VEVENT
DTSTART;VALUE=DATE:20240610
DTEND;VALUE=DATE:20240611
DTSTAMP:20260423T132043
CREATED:20240306T224948Z
LAST-MODIFIED:20240613T144300Z
UID:10001659-1717977600-1718063999@mtanthonycc.com
SUMMARY:Men's VGA Amateur Tee Times
DESCRIPTION:
URL:https://mtanthonycc.com/event/mens-vga-amateur-tee-times/
CATEGORIES:Event
END:VEVENT
BEGIN:VEVENT
DTSTART;VALUE=DATE:20240610
DTEND;VALUE=DATE:20240611
DTSTAMP:20260423T132043
CREATED:20240507T123604Z
LAST-MODIFIED:20240613T144337Z
UID:10001949-1717977600-1718063999@mtanthonycc.com
SUMMARY:Industrial League
DESCRIPTION:
URL:https://mtanthonycc.com/event/industrial-league/2024-06-10/
CATEGORIES:Event
END:VEVENT
BEGIN:VEVENT
DTSTART;VALUE=DATE:20240611
DTEND;VALUE=DATE:20240612
DTSTAMP:20260423T132043
CREATED:20240507T131847Z
LAST-MODIFIED:20240613T144300Z
UID:10002253-1718064000-1718150399@mtanthonycc.com
SUMMARY:Croquet League
DESCRIPTION:
URL:https://mtanthonycc.com/event/croquet-league-3/2024-06-11/
CATEGORIES:Event
END:VEVENT
BEGIN:VEVENT
DTSTART;VALUE=DATE:20240612
DTEND;VALUE=DATE:20240613
DTSTAMP:20260423T132043
CREATED:20240507T125931Z
LAST-MODIFIED:20240613T144337Z
UID:10002235-1718150400-1718236799@mtanthonycc.com
SUMMARY:Social League
DESCRIPTION:Please call the Pro shop (802) 447-7079 to sign up \n 
URL:https://mtanthonycc.com/event/social-league-2/2024-06-12/
LOCATION:MOUNT ANTHONY COUNTRY CLUB\, 180 Country Club Road\, Bennington\, Vemont\, 05201
CATEGORIES:Event,Repeating Event
ATTACH;FMTTYPE=image/png:https://mtanthonycc.com/wp-content/uploads/2023/02/mt-anthony-country-clubmt-anthony-2022-macc-wednesday-social-league-facebook-event-cover.png
END:VEVENT
BEGIN:VEVENT
DTSTART;VALUE=DATE:20240612
DTEND;VALUE=DATE:20240613
DTSTAMP:20260423T132044
CREATED:20240507T135036Z
LAST-MODIFIED:20240613T144336Z
UID:10002263-1718150400-1718236799@mtanthonycc.com
SUMMARY:Ladies 9 Hole League
DESCRIPTION:
URL:https://mtanthonycc.com/event/ladies-9-hole-league-3/2024-06-12/
CATEGORIES:Event
END:VEVENT
BEGIN:VEVENT
DTSTART;VALUE=DATE:20240613
DTEND;VALUE=DATE:20240614
DTSTAMP:20260423T132044
CREATED:20240507T135133Z
LAST-MODIFIED:20240613T144300Z
UID:10002275-1718236800-1718323199@mtanthonycc.com
SUMMARY:Ladies 18 Hole League
DESCRIPTION:
URL:https://mtanthonycc.com/event/ladies-18-hole-league-4/2024-06-13/
CATEGORIES:Event
END:VEVENT
BEGIN:VEVENT
DTSTART;VALUE=DATE:20240614
DTEND;VALUE=DATE:20240615
DTSTAMP:20260423T132044
CREATED:20240306T225017Z
LAST-MODIFIED:20240613T144300Z
UID:10001660-1718323200-1718409599@mtanthonycc.com
SUMMARY:Sacred Heart Scramble
DESCRIPTION:SHSF_GT_2024_Registration Form
URL:https://mtanthonycc.com/event/https-mtanthohttps-mtanthonycc-com-wp-content-uploads-2024-06-jamie-hill-memorial-golf-tournament-sponsorhip-form_02-pdfnycc-com-wp-content-uploads-2024-06-sponsorpacket_golfday24_vna-final-pdf-2/
LOCATION:Mount Anthony Country Club\, 180 Country Club Road\, Bennington\, Vermont\, 05201
CATEGORIES:Event
END:VEVENT
BEGIN:VEVENT
DTSTART;VALUE=DATE:20240617
DTEND;VALUE=DATE:20240618
DTSTAMP:20260423T132044
CREATED:20240507T123604Z
LAST-MODIFIED:20240613T144337Z
UID:10001950-1718582400-1718668799@mtanthonycc.com
SUMMARY:Industrial League
DESCRIPTION:
URL:https://mtanthonycc.com/event/industrial-league/2024-06-17/
CATEGORIES:Event
END:VEVENT
BEGIN:VEVENT
DTSTART;VALUE=DATE:20240618
DTEND;VALUE=DATE:20240619
DTSTAMP:20260423T132044
CREATED:20240507T131847Z
LAST-MODIFIED:20240613T144300Z
UID:10002254-1718668800-1718755199@mtanthonycc.com
SUMMARY:Croquet League
DESCRIPTION:
URL:https://mtanthonycc.com/event/croquet-league-3/2024-06-18/
CATEGORIES:Event
END:VEVENT
BEGIN:VEVENT
DTSTART;VALUE=DATE:20240619
DTEND;VALUE=DATE:20240620
DTSTAMP:20260423T132044
CREATED:20240507T125931Z
LAST-MODIFIED:20240613T144337Z
UID:10002236-1718755200-1718841599@mtanthonycc.com
SUMMARY:Social League
DESCRIPTION:Please call the Pro shop (802) 447-7079 to sign up \n 
URL:https://mtanthonycc.com/event/social-league-2/2024-06-19/
LOCATION:MOUNT ANTHONY COUNTRY CLUB\, 180 Country Club Road\, Bennington\, Vemont\, 05201
CATEGORIES:Event,Repeating Event
ATTACH;FMTTYPE=image/png:https://mtanthonycc.com/wp-content/uploads/2023/02/mt-anthony-country-clubmt-anthony-2022-macc-wednesday-social-league-facebook-event-cover.png
END:VEVENT
BEGIN:VEVENT
DTSTART;VALUE=DATE:20240619
DTEND;VALUE=DATE:20240620
DTSTAMP:20260423T132044
CREATED:20240507T135036Z
LAST-MODIFIED:20240613T144336Z
UID:10002264-1718755200-1718841599@mtanthonycc.com
SUMMARY:Ladies 9 Hole League
DESCRIPTION:
URL:https://mtanthonycc.com/event/ladies-9-hole-league-3/2024-06-19/
CATEGORIES:Event
END:VEVENT
BEGIN:VEVENT
DTSTART;VALUE=DATE:20240620
DTEND;VALUE=DATE:20240621
DTSTAMP:20260423T132044
CREATED:20240507T135133Z
LAST-MODIFIED:20240613T144300Z
UID:10002276-1718841600-1718927999@mtanthonycc.com
SUMMARY:Ladies 18 Hole League
DESCRIPTION:
URL:https://mtanthonycc.com/event/ladies-18-hole-league-4/2024-06-20/
CATEGORIES:Event
END:VEVENT
BEGIN:VEVENT
DTSTART;VALUE=DATE:20240624
DTEND;VALUE=DATE:20240625
DTSTAMP:20260423T132044
CREATED:20240507T123604Z
LAST-MODIFIED:20240613T144337Z
UID:10001951-1719187200-1719273599@mtanthonycc.com
SUMMARY:Industrial League
DESCRIPTION:
URL:https://mtanthonycc.com/event/industrial-league/2024-06-24/
CATEGORIES:Event
END:VEVENT
BEGIN:VEVENT
DTSTART;VALUE=DATE:20240625
DTEND;VALUE=DATE:20240626
DTSTAMP:20260423T132044
CREATED:20240306T225204Z
LAST-MODIFIED:20240613T144259Z
UID:10001661-1719273600-1719359999@mtanthonycc.com
SUMMARY:VT State Ladies Day
DESCRIPTION:
URL:https://mtanthonycc.com/event/vt-state-ladies-day-2/
CATEGORIES:Event
END:VEVENT
BEGIN:VEVENT
DTSTART;VALUE=DATE:20240625
DTEND;VALUE=DATE:20240626
DTSTAMP:20260423T132044
CREATED:20240507T131847Z
LAST-MODIFIED:20240613T144300Z
UID:10002255-1719273600-1719359999@mtanthonycc.com
SUMMARY:Croquet League
DESCRIPTION:
URL:https://mtanthonycc.com/event/croquet-league-3/2024-06-25/
CATEGORIES:Event
END:VEVENT
BEGIN:VEVENT
DTSTART;VALUE=DATE:20240626
DTEND;VALUE=DATE:20240627
DTSTAMP:20260423T132044
CREATED:20240507T125931Z
LAST-MODIFIED:20240613T144337Z
UID:10002237-1719360000-1719446399@mtanthonycc.com
SUMMARY:Social League
DESCRIPTION:Please call the Pro shop (802) 447-7079 to sign up \n 
URL:https://mtanthonycc.com/event/social-league-2/2024-06-26/
LOCATION:MOUNT ANTHONY COUNTRY CLUB\, 180 Country Club Road\, Bennington\, Vemont\, 05201
CATEGORIES:Event,Repeating Event
ATTACH;FMTTYPE=image/png:https://mtanthonycc.com/wp-content/uploads/2023/02/mt-anthony-country-clubmt-anthony-2022-macc-wednesday-social-league-facebook-event-cover.png
END:VEVENT
BEGIN:VEVENT
DTSTART;VALUE=DATE:20240626
DTEND;VALUE=DATE:20240627
DTSTAMP:20260423T132044
CREATED:20240507T135036Z
LAST-MODIFIED:20240613T144336Z
UID:10002265-1719360000-1719446399@mtanthonycc.com
SUMMARY:Ladies 9 Hole League
DESCRIPTION:
URL:https://mtanthonycc.com/event/ladies-9-hole-league-3/2024-06-26/
CATEGORIES:Event
END:VEVENT
BEGIN:VEVENT
DTSTART;VALUE=DATE:20240627
DTEND;VALUE=DATE:20240628
DTSTAMP:20260423T132044
CREATED:20240507T135133Z
LAST-MODIFIED:20240613T144300Z
UID:10002277-1719446400-1719532799@mtanthonycc.com
SUMMARY:Ladies 18 Hole League
DESCRIPTION:
URL:https://mtanthonycc.com/event/ladies-18-hole-league-4/2024-06-27/
CATEGORIES:Event
END:VEVENT
BEGIN:VEVENT
DTSTART;VALUE=DATE:20240628
DTEND;VALUE=DATE:20240629
DTSTAMP:20260423T132044
CREATED:20240306T225411Z
LAST-MODIFIED:20240613T144259Z
UID:10001662-1719532800-1719619199@mtanthonycc.com
SUMMARY:One Day Men's Member Guest
DESCRIPTION:
URL:https://mtanthonycc.com/event/one-day-mens-member-guest-2/
CATEGORIES:Event
END:VEVENT
END:VCALENDAR