BEGIN:VCALENDAR
VERSION:2.0
PRODID:-//Mt. Anthony - ECPv6.15.20//NONSGML v1.0//EN
CALSCALE:GREGORIAN
METHOD:PUBLISH
X-WR-CALNAME:Mt. Anthony
X-ORIGINAL-URL:https://mtanthonycc.com
X-WR-CALDESC:Events for Mt. Anthony
REFRESH-INTERVAL;VALUE=DURATION:PT1H
X-Robots-Tag:noindex
X-PUBLISHED-TTL:PT1H
BEGIN:VTIMEZONE
TZID:America/Toronto
BEGIN:DAYLIGHT
TZOFFSETFROM:-0500
TZOFFSETTO:-0400
TZNAME:EDT
DTSTART:20230312T070000
END:DAYLIGHT
BEGIN:STANDARD
TZOFFSETFROM:-0400
TZOFFSETTO:-0500
TZNAME:EST
DTSTART:20231105T060000
END:STANDARD
BEGIN:DAYLIGHT
TZOFFSETFROM:-0500
TZOFFSETTO:-0400
TZNAME:EDT
DTSTART:20240310T070000
END:DAYLIGHT
BEGIN:STANDARD
TZOFFSETFROM:-0400
TZOFFSETTO:-0500
TZNAME:EST
DTSTART:20241103T060000
END:STANDARD
BEGIN:DAYLIGHT
TZOFFSETFROM:-0500
TZOFFSETTO:-0400
TZNAME:EDT
DTSTART:20250309T070000
END:DAYLIGHT
BEGIN:STANDARD
TZOFFSETFROM:-0400
TZOFFSETTO:-0500
TZNAME:EST
DTSTART:20251102T060000
END:STANDARD
END:VTIMEZONE
BEGIN:VEVENT
DTSTART;VALUE=DATE:20240501
DTEND;VALUE=DATE:20240502
DTSTAMP:20260423T150837
CREATED:20240501T183038Z
LAST-MODIFIED:20240613T144337Z
UID:10001681-1714521600-1714607999@mtanthonycc.com
SUMMARY:Mother's Day Dinner
DESCRIPTION:Treat Mom to Dinner on Her Special Day! \nView the Mother’s Day Dinner Menu
URL:https://mtanthonycc.com/event/mothers-day-dinner/
CATEGORIES:Event
END:VEVENT
BEGIN:VEVENT
DTSTART;VALUE=DATE:20240501
DTEND;VALUE=DATE:20240502
DTSTAMP:20260423T150837
CREATED:20240507T125931Z
LAST-MODIFIED:20240613T144337Z
UID:10002229-1714521600-1714607999@mtanthonycc.com
SUMMARY:Social League
DESCRIPTION:Please call the Pro shop (802) 447-7079 to sign up \n 
URL:https://mtanthonycc.com/event/social-league-2/2024-05-01/
LOCATION:MOUNT ANTHONY COUNTRY CLUB\, 180 Country Club Road\, Bennington\, Vemont\, 05201
CATEGORIES:Event,Repeating Event
ATTACH;FMTTYPE=image/png:https://mtanthonycc.com/wp-content/uploads/2023/02/mt-anthony-country-clubmt-anthony-2022-macc-wednesday-social-league-facebook-event-cover.png
END:VEVENT
BEGIN:VEVENT
DTSTART;VALUE=DATE:20240505
DTEND;VALUE=DATE:20240506
DTSTAMP:20260423T150837
CREATED:20240306T224640Z
LAST-MODIFIED:20240613T144337Z
UID:10001656-1714867200-1714953599@mtanthonycc.com
SUMMARY:Ladies 9 Hole League
DESCRIPTION:Womens Golf Leagues 2024.pdf
URL:https://mtanthonycc.com/event/ladies-9-hole-league-2/
CATEGORIES:Event
END:VEVENT
BEGIN:VEVENT
DTSTART;VALUE=DATE:20240506
DTEND;VALUE=DATE:20240507
DTSTAMP:20260423T150837
CREATED:20240507T123604Z
LAST-MODIFIED:20240613T144337Z
UID:10001944-1714953600-1715039999@mtanthonycc.com
SUMMARY:Industrial League
DESCRIPTION:
URL:https://mtanthonycc.com/event/industrial-league/2024-05-06/
CATEGORIES:Event
END:VEVENT
BEGIN:VEVENT
DTSTART;VALUE=DATE:20240508
DTEND;VALUE=DATE:20240509
DTSTAMP:20260423T150837
CREATED:20240507T125931Z
LAST-MODIFIED:20240613T144337Z
UID:10002230-1715126400-1715212799@mtanthonycc.com
SUMMARY:Social League
DESCRIPTION:Please call the Pro shop (802) 447-7079 to sign up \n 
URL:https://mtanthonycc.com/event/social-league-2/2024-05-08/
LOCATION:MOUNT ANTHONY COUNTRY CLUB\, 180 Country Club Road\, Bennington\, Vemont\, 05201
CATEGORIES:Event,Repeating Event
ATTACH;FMTTYPE=image/png:https://mtanthonycc.com/wp-content/uploads/2023/02/mt-anthony-country-clubmt-anthony-2022-macc-wednesday-social-league-facebook-event-cover.png
END:VEVENT
BEGIN:VEVENT
DTSTART;TZID=America/Toronto:20240512T110000
DTEND;TZID=America/Toronto:20240512T140000
DTSTAMP:20260423T150837
CREATED:20240422T123836Z
LAST-MODIFIED:20240613T144337Z
UID:10001680-1715511600-1715522400@mtanthonycc.com
SUMMARY:Mother's Day Brunch
DESCRIPTION:Happy Mother’s Day!\nBrunch Buffet Seatings 11:00 am – 2:00 pm\nClick Here to View Menu
URL:https://mtanthonycc.com/event/mothers-day-brunch/
CATEGORIES:Event
END:VEVENT
BEGIN:VEVENT
DTSTART;VALUE=DATE:20240513
DTEND;VALUE=DATE:20240514
DTSTAMP:20260423T150837
CREATED:20240507T123604Z
LAST-MODIFIED:20240613T144337Z
UID:10001945-1715558400-1715644799@mtanthonycc.com
SUMMARY:Industrial League
DESCRIPTION:
URL:https://mtanthonycc.com/event/industrial-league/2024-05-13/
CATEGORIES:Event
END:VEVENT
BEGIN:VEVENT
DTSTART;VALUE=DATE:20240515
DTEND;VALUE=DATE:20240516
DTSTAMP:20260423T150837
CREATED:20240507T125931Z
LAST-MODIFIED:20240613T144337Z
UID:10002231-1715731200-1715817599@mtanthonycc.com
SUMMARY:Social League
DESCRIPTION:Please call the Pro shop (802) 447-7079 to sign up \n 
URL:https://mtanthonycc.com/event/social-league-2/2024-05-15/
LOCATION:MOUNT ANTHONY COUNTRY CLUB\, 180 Country Club Road\, Bennington\, Vemont\, 05201
CATEGORIES:Event,Repeating Event
ATTACH;FMTTYPE=image/png:https://mtanthonycc.com/wp-content/uploads/2023/02/mt-anthony-country-clubmt-anthony-2022-macc-wednesday-social-league-facebook-event-cover.png
END:VEVENT
BEGIN:VEVENT
DTSTART;VALUE=DATE:20240517
DTEND;VALUE=DATE:20240520
DTSTAMP:20260423T150837
CREATED:20240305T013212Z
LAST-MODIFIED:20240613T144337Z
UID:10001652-1715904000-1716163199@mtanthonycc.com
SUMMARY:William Travers Jerome Invitational Tournament
DESCRIPTION:
URL:https://mtanthonycc.com/event/william-travers-jerome-invitational-tournament/
CATEGORIES:Event
END:VEVENT
BEGIN:VEVENT
DTSTART;VALUE=DATE:20240520
DTEND;VALUE=DATE:20240521
DTSTAMP:20260423T150837
CREATED:20240507T123604Z
LAST-MODIFIED:20240613T144337Z
UID:10001946-1716163200-1716249599@mtanthonycc.com
SUMMARY:Industrial League
DESCRIPTION:
URL:https://mtanthonycc.com/event/industrial-league/2024-05-20/
CATEGORIES:Event
END:VEVENT
BEGIN:VEVENT
DTSTART;VALUE=DATE:20240522
DTEND;VALUE=DATE:20240523
DTSTAMP:20260423T150837
CREATED:20240507T125931Z
LAST-MODIFIED:20240613T144337Z
UID:10002232-1716336000-1716422399@mtanthonycc.com
SUMMARY:Social League
DESCRIPTION:Please call the Pro shop (802) 447-7079 to sign up \n 
URL:https://mtanthonycc.com/event/social-league-2/2024-05-22/
LOCATION:MOUNT ANTHONY COUNTRY CLUB\, 180 Country Club Road\, Bennington\, Vemont\, 05201
CATEGORIES:Event,Repeating Event
ATTACH;FMTTYPE=image/png:https://mtanthonycc.com/wp-content/uploads/2023/02/mt-anthony-country-clubmt-anthony-2022-macc-wednesday-social-league-facebook-event-cover.png
END:VEVENT
BEGIN:VEVENT
DTSTART;VALUE=DATE:20240524
DTEND;VALUE=DATE:20240525
DTSTAMP:20260423T150837
CREATED:20240507T123632Z
LAST-MODIFIED:20240613T144337Z
UID:10002206-1716508800-1716595199@mtanthonycc.com
SUMMARY:Nine & Wine
DESCRIPTION:
URL:https://mtanthonycc.com/event/nine-wine-14/
CATEGORIES:Event
END:VEVENT
BEGIN:VEVENT
DTSTART;TZID=America/Toronto:20240526T130000
DTEND;TZID=America/Toronto:20240526T130000
DTSTAMP:20260423T150837
CREATED:20240306T223232Z
LAST-MODIFIED:20240613T144336Z
UID:10001654-1716728400-1716728400@mtanthonycc.com
SUMMARY:Scramble Every Sunday | 9 Holes
DESCRIPTION:
URL:https://mtanthonycc.com/event/scramble-ever-sunday-9-holes/
CATEGORIES:Event
END:VEVENT
BEGIN:VEVENT
DTSTART;VALUE=DATE:20240527
DTEND;VALUE=DATE:20240528
DTSTAMP:20260423T150837
CREATED:20240507T123604Z
LAST-MODIFIED:20240613T144337Z
UID:10001947-1716768000-1716854399@mtanthonycc.com
SUMMARY:Industrial League
DESCRIPTION:
URL:https://mtanthonycc.com/event/industrial-league/2024-05-27/
CATEGORIES:Event
END:VEVENT
BEGIN:VEVENT
DTSTART;VALUE=DATE:20240529
DTEND;VALUE=DATE:20240530
DTSTAMP:20260423T150837
CREATED:20240507T125931Z
LAST-MODIFIED:20240613T144337Z
UID:10002233-1716940800-1717027199@mtanthonycc.com
SUMMARY:Social League
DESCRIPTION:Please call the Pro shop (802) 447-7079 to sign up \n 
URL:https://mtanthonycc.com/event/social-league-2/2024-05-29/
LOCATION:MOUNT ANTHONY COUNTRY CLUB\, 180 Country Club Road\, Bennington\, Vemont\, 05201
CATEGORIES:Event,Repeating Event
ATTACH;FMTTYPE=image/png:https://mtanthonycc.com/wp-content/uploads/2023/02/mt-anthony-country-clubmt-anthony-2022-macc-wednesday-social-league-facebook-event-cover.png
END:VEVENT
END:VCALENDAR