BEGIN:VCALENDAR
VERSION:2.0
PRODID:-//Mt. Anthony - ECPv6.15.20//NONSGML v1.0//EN
CALSCALE:GREGORIAN
METHOD:PUBLISH
X-WR-CALNAME:Mt. Anthony
X-ORIGINAL-URL:https://mtanthonycc.com
X-WR-CALDESC:Events for Mt. Anthony
REFRESH-INTERVAL;VALUE=DURATION:PT1H
X-Robots-Tag:noindex
X-PUBLISHED-TTL:PT1H
BEGIN:VTIMEZONE
TZID:America/Toronto
BEGIN:DAYLIGHT
TZOFFSETFROM:-0500
TZOFFSETTO:-0400
TZNAME:EDT
DTSTART:20230312T070000
END:DAYLIGHT
BEGIN:STANDARD
TZOFFSETFROM:-0400
TZOFFSETTO:-0500
TZNAME:EST
DTSTART:20231105T060000
END:STANDARD
BEGIN:DAYLIGHT
TZOFFSETFROM:-0500
TZOFFSETTO:-0400
TZNAME:EDT
DTSTART:20240310T070000
END:DAYLIGHT
BEGIN:STANDARD
TZOFFSETFROM:-0400
TZOFFSETTO:-0500
TZNAME:EST
DTSTART:20241103T060000
END:STANDARD
BEGIN:DAYLIGHT
TZOFFSETFROM:-0500
TZOFFSETTO:-0400
TZNAME:EDT
DTSTART:20250309T070000
END:DAYLIGHT
BEGIN:STANDARD
TZOFFSETFROM:-0400
TZOFFSETTO:-0500
TZNAME:EST
DTSTART:20251102T060000
END:STANDARD
END:VTIMEZONE
BEGIN:VEVENT
DTSTART;VALUE=DATE:20240309
DTEND;VALUE=DATE:20240310
DTSTAMP:20260423T180713
CREATED:20240305T013410Z
LAST-MODIFIED:20240305T013410Z
UID:10001653-1709942400-1710028799@mtanthonycc.com
SUMMARY:Wintertastic Celebration & Auction
DESCRIPTION:To benefit Sacred Heart St. Francis deSales School\nSaturday\, March 9\n5:30 pm – Cocktails   6:30 pm Dinner    7:30 Auction\n$50 per person or $400 per table of 8 \nTickets available at Sacred Heart School. 307 School Street\, Bennington VT 05201
URL:https://mtanthonycc.com/event/wintertastic-celebration-auction/
CATEGORIES:Event
END:VEVENT
BEGIN:VEVENT
DTSTART;VALUE=DATE:20240317
DTEND;VALUE=DATE:20240318
DTSTAMP:20260423T180713
CREATED:20240130T171858Z
LAST-MODIFIED:20240130T171858Z
UID:10001651-1710633600-1710719999@mtanthonycc.com
SUMMARY:St. Patrick's Day
DESCRIPTION:Special Menu \nCall for Reservations
URL:https://mtanthonycc.com/event/st-patricks-day/
CATEGORIES:Event
END:VEVENT
BEGIN:VEVENT
DTSTART;VALUE=DATE:20240331
DTEND;VALUE=DATE:20240401
DTSTAMP:20260423T180713
CREATED:20240130T171811Z
LAST-MODIFIED:20240130T171811Z
UID:10001650-1711843200-1711929599@mtanthonycc.com
SUMMARY:Easter Buffet and Easter Egg Hunt
DESCRIPTION:Easter Buffet and Easter Egg Hunt\nCall for Reservations
URL:https://mtanthonycc.com/event/easter-buffet-and-easter-egg-hunt/
END:VEVENT
BEGIN:VEVENT
DTSTART;TZID=America/Toronto:20240331T103000
DTEND;TZID=America/Toronto:20240331T143000
DTSTAMP:20260423T180713
CREATED:20240306T232801Z
LAST-MODIFIED:20240613T144337Z
UID:10001678-1711881000-1711895400@mtanthonycc.com
SUMMARY:Easter Sunday Brunch
DESCRIPTION:Easter_Menu_2024
URL:https://mtanthonycc.com/event/easter-sunday-brunch/
CATEGORIES:Event
END:VEVENT
BEGIN:VEVENT
DTSTART;TZID=America/Toronto:20240331T160000
DTEND;TZID=America/Toronto:20240331T190000
DTSTAMP:20260423T180713
CREATED:20240306T233020Z
LAST-MODIFIED:20240613T144337Z
UID:10001679-1711900800-1711911600@mtanthonycc.com
SUMMARY:Easter Dinner
DESCRIPTION:Easter Dinner Menu 2024
URL:https://mtanthonycc.com/event/easter-dinner-2/
CATEGORIES:Event
END:VEVENT
END:VCALENDAR